BEGIN:VCALENDAR
VERSION:2.0
PRODID:-//Spencer Pride - ECPv6.15.20//NONSGML v1.0//EN
CALSCALE:GREGORIAN
METHOD:PUBLISH
X-WR-CALNAME:Spencer Pride
X-ORIGINAL-URL:https://spencerpride.org
X-WR-CALDESC:Events for Spencer Pride
REFRESH-INTERVAL;VALUE=DURATION:PT1H
X-Robots-Tag:noindex
X-PUBLISHED-TTL:PT1H
BEGIN:VTIMEZONE
TZID:America/Indiana/Indianapolis
BEGIN:DAYLIGHT
TZOFFSETFROM:-0500
TZOFFSETTO:-0400
TZNAME:EDT
DTSTART:20250309T070000
END:DAYLIGHT
BEGIN:STANDARD
TZOFFSETFROM:-0400
TZOFFSETTO:-0500
TZNAME:EST
DTSTART:20251102T060000
END:STANDARD
BEGIN:DAYLIGHT
TZOFFSETFROM:-0500
TZOFFSETTO:-0400
TZNAME:EDT
DTSTART:20260308T070000
END:DAYLIGHT
BEGIN:STANDARD
TZOFFSETFROM:-0400
TZOFFSETTO:-0500
TZNAME:EST
DTSTART:20261101T060000
END:STANDARD
BEGIN:DAYLIGHT
TZOFFSETFROM:-0500
TZOFFSETTO:-0400
TZNAME:EDT
DTSTART:20270314T070000
END:DAYLIGHT
BEGIN:STANDARD
TZOFFSETFROM:-0400
TZOFFSETTO:-0500
TZNAME:EST
DTSTART:20271107T060000
END:STANDARD
END:VTIMEZONE
BEGIN:VEVENT
DTSTART;TZID=America/Indiana/Indianapolis:20260221T080000
DTEND;TZID=America/Indiana/Indianapolis:20260221T140000
DTSTAMP:20260419T101544
CREATED:20251222T021108Z
LAST-MODIFIED:20251222T215051Z
UID:10744-1771660800-1771682400@spencerpride.org
SUMMARY:Rainbow Birders: Goose Pond FWA
DESCRIPTION:Stay tuned for the next exciting event brought to you by the Spencer Pride Birders. \nContact Rainbow.Birders@SpencerPride.org for more details.
URL:https://spencerpride.org/calendar/rainbow-birders-february-2026/
CATEGORIES:Rainbow Birders
ATTACH;FMTTYPE=image/png:https://spencerpride.org/wp-content/uploads/2024/10/Rainbow-Birders-2024.png
ORGANIZER;CN="Wendy Wonderley":MAILTO:wendy@spencerpride.org
END:VEVENT
BEGIN:VEVENT
DTSTART;TZID=America/Indiana/Indianapolis:20260221T100000
DTEND;TZID=America/Indiana/Indianapolis:20260221T110000
DTSTAMP:20260419T101544
CREATED:20251222T015023Z
LAST-MODIFIED:20251222T015023Z
UID:10728-1771668000-1771671600@spencerpride.org
SUMMARY:Math Builders: Tutoring Session
DESCRIPTION:We are providing free tutoring to students in grades 6-12 to build and improve math skills. This includes public school math and Singapore math (utilized at Seven Oaks Classical School). \nContact Andrew@SpencerPride.org for more information.
URL:https://spencerpride.org/calendar/math-builders-tutoring-session-23/
LOCATION:Golden Discovery Ballroom\, 17 East Franklin Street\, Spencer\, IN\, 47460\, United States
CATEGORIES:Math Builders
ATTACH;FMTTYPE=image/png:https://spencerpride.org/wp-content/uploads/2024/11/Math-Builders.png
ORGANIZER;CN="Andrew Olsson":MAILTO:andrew@spencerpride.org
END:VEVENT
BEGIN:VEVENT
DTSTART;TZID=America/Indiana/Indianapolis:20260221T160000
DTEND;TZID=America/Indiana/Indianapolis:20260221T180000
DTSTAMP:20260419T101544
CREATED:20251222T222314Z
LAST-MODIFIED:20251222T222314Z
UID:10786-1771689600-1771696800@spencerpride.org
SUMMARY:Rainbow Rollers: Open Game Night - February  2026
DESCRIPTION:Come prepared to have fun and bring a friend to: Open Game Night\, presented by Rainbow Rollers.\nYou are welcome to bring your favorite treat or beverage\, but there is no obligation to do so.\nGames will be provided and volunteers will be available to assist with learning new games.\nContact Phillip@SpencerPride.org for more info!
URL:https://spencerpride.org/calendar/rainbow-rollers-open-game-night-february-2026/
LOCATION:Golden Discovery Ballroom\, 17 East Franklin Street\, Spencer\, IN\, 47460\, United States
CATEGORIES:Rainbow Rollers
ATTACH;FMTTYPE=image/png:https://spencerpride.org/wp-content/uploads/2024/10/Rainbow-Rollers-2024.png
ORGANIZER;CN="Phillip O'Neill":MAILTO:phillip@spencerpride.org
END:VEVENT
END:VCALENDAR