BEGIN:VCALENDAR
VERSION:2.0
PRODID:-//Spencer Pride - ECPv6.15.20//NONSGML v1.0//EN
CALSCALE:GREGORIAN
METHOD:PUBLISH
X-ORIGINAL-URL:https://spencerpride.org
X-WR-CALDESC:Events for Spencer Pride
REFRESH-INTERVAL;VALUE=DURATION:PT1H
X-Robots-Tag:noindex
X-PUBLISHED-TTL:PT1H
BEGIN:VTIMEZONE
TZID:America/Indiana/Indianapolis
BEGIN:DAYLIGHT
TZOFFSETFROM:-0500
TZOFFSETTO:-0400
TZNAME:EDT
DTSTART:20240310T070000
END:DAYLIGHT
BEGIN:STANDARD
TZOFFSETFROM:-0400
TZOFFSETTO:-0500
TZNAME:EST
DTSTART:20241103T060000
END:STANDARD
BEGIN:DAYLIGHT
TZOFFSETFROM:-0500
TZOFFSETTO:-0400
TZNAME:EDT
DTSTART:20250309T070000
END:DAYLIGHT
BEGIN:STANDARD
TZOFFSETFROM:-0400
TZOFFSETTO:-0500
TZNAME:EST
DTSTART:20251102T060000
END:STANDARD
BEGIN:DAYLIGHT
TZOFFSETFROM:-0500
TZOFFSETTO:-0400
TZNAME:EDT
DTSTART:20260308T070000
END:DAYLIGHT
BEGIN:STANDARD
TZOFFSETFROM:-0400
TZOFFSETTO:-0500
TZNAME:EST
DTSTART:20261101T060000
END:STANDARD
END:VTIMEZONE
BEGIN:VEVENT
DTSTART;TZID=America/Indiana/Indianapolis:20251115T090000
DTEND;TZID=America/Indiana/Indianapolis:20251115T170000
DTSTAMP:20260424T011716
CREATED:20250525T194801Z
LAST-MODIFIED:20250525T194801Z
UID:10248-1763197200-1763226000@spencerpride.org
SUMMARY:Rainbow Birders: Celery Bog
DESCRIPTION:
URL:https://spencerpride.org/calendar/rainbow-birders-celery-bog/
LOCATION:Celery Bog\, 1620 Lindberg Road\, West Lafayette\, IN\, 47906\, United States
CATEGORIES:Rainbow Birders
ATTACH;FMTTYPE=image/png:https://spencerpride.org/wp-content/uploads/2024/10/Rainbow-Birders-2024.png
ORGANIZER;CN="Wendy Wonderley":MAILTO:wendy@spencerpride.org
END:VEVENT
BEGIN:VEVENT
DTSTART;TZID=America/Indiana/Indianapolis:20251101T120000
DTEND;TZID=America/Indiana/Indianapolis:20251101T150000
DTSTAMP:20260424T011716
CREATED:20251019T144655Z
LAST-MODIFIED:20251019T144655Z
UID:10547-1761998400-1762009200@spencerpride.org
SUMMARY:Rainbow Birders - Feathers and Fermentation
DESCRIPTION:
URL:https://spencerpride.org/calendar/rainbow-birders-feathers-and-fermentation/
LOCATION:Owen Valley Winery\, 491 Timber Ridge Rd\, Spencer\, IN\, 47460\, United States
CATEGORIES:Rainbow Birders
ATTACH;FMTTYPE=image/png:https://spencerpride.org/wp-content/uploads/2024/10/Rainbow-Birders-2024.png
ORGANIZER;CN="Wendy Wonderley":MAILTO:wendy@spencerpride.org
END:VEVENT
BEGIN:VEVENT
DTSTART;TZID=America/Indiana/Indianapolis:20251018T090000
DTEND;TZID=America/Indiana/Indianapolis:20251018T170000
DTSTAMP:20260424T011716
CREATED:20250525T192015Z
LAST-MODIFIED:20250525T192040Z
UID:10207-1760778000-1760806800@spencerpride.org
SUMMARY:Rainbow Birders: McCormick's Creek State Park
DESCRIPTION:
URL:https://spencerpride.org/calendar/rainbow-birders-mccormicks-creek-state-park/
LOCATION:McCormick’s Creek State Park\, 250 McCormick's Creek Park Road\, Spencer\, 47460\, United States
CATEGORIES:Rainbow Birders
ATTACH;FMTTYPE=image/png:https://spencerpride.org/wp-content/uploads/2024/10/Rainbow-Birders-2024.png
ORGANIZER;CN="Wendy Wonderley":MAILTO:wendy@spencerpride.org
END:VEVENT
BEGIN:VEVENT
DTSTART;TZID=America/Indiana/Indianapolis:20250920T090000
DTEND;TZID=America/Indiana/Indianapolis:20250920T170000
DTSTAMP:20260424T011716
CREATED:20250525T185955Z
LAST-MODIFIED:20250525T185955Z
UID:10181-1758358800-1758387600@spencerpride.org
SUMMARY:Rainbow Birders: Flatwoods Park
DESCRIPTION:
URL:https://spencerpride.org/calendar/rainbow-birders-flatwoods-park/
LOCATION:Flatwoods Park\, 9499 Flatwoods Rd\, Gosport\, IN\, 47433\, United States
CATEGORIES:Rainbow Birders
ATTACH;FMTTYPE=image/png:https://spencerpride.org/wp-content/uploads/2024/10/Rainbow-Birders-2024.png
ORGANIZER;CN="Wendy Wonderley":MAILTO:wendy@spencerpride.org
END:VEVENT
BEGIN:VEVENT
DTSTART;TZID=America/Indiana/Indianapolis:20250831T170000
DTEND;TZID=America/Indiana/Indianapolis:20250831T190000
DTSTAMP:20260424T011716
CREATED:20250824T210153Z
LAST-MODIFIED:20250824T210153Z
UID:10443-1756659600-1756666800@spencerpride.org
SUMMARY:Rainbow Birders: Griffy Lake
DESCRIPTION:
URL:https://spencerpride.org/calendar/rainbow-birders-griffy-lake/
LOCATION:Spencer Pride Gathering Place\, 17 East Franklin Street\, Spencer\, IN\, 47460\, United States
CATEGORIES:Rainbow Birders
ATTACH;FMTTYPE=image/png:https://spencerpride.org/wp-content/uploads/2024/10/Rainbow-Birders-2024.png
ORGANIZER;CN="Wendy Wonderley":MAILTO:wendy@spencerpride.org
END:VEVENT
BEGIN:VEVENT
DTSTART;TZID=America/Indiana/Indianapolis:20250816T090000
DTEND;TZID=America/Indiana/Indianapolis:20250816T170000
DTSTAMP:20260424T011716
CREATED:20250525T144755Z
LAST-MODIFIED:20250525T144904Z
UID:10091-1755334800-1755363600@spencerpride.org
SUMMARY:Rainbow Birders: Sweet Own County Residence
DESCRIPTION:
URL:https://spencerpride.org/calendar/rainbow-birders-sweet-own-county-residence/
CATEGORIES:Rainbow Birders
ATTACH;FMTTYPE=image/png:https://spencerpride.org/wp-content/uploads/2024/10/Rainbow-Birders-2024.png
ORGANIZER;CN="Wendy Wonderley":MAILTO:wendy@spencerpride.org
END:VEVENT
BEGIN:VEVENT
DTSTART;TZID=America/Indiana/Indianapolis:20250719T090000
DTEND;TZID=America/Indiana/Indianapolis:20250719T170000
DTSTAMP:20260424T011716
CREATED:20250525T141108Z
LAST-MODIFIED:20250525T141108Z
UID:10057-1752915600-1752944400@spencerpride.org
SUMMARY:Rainbow Birders: MyPath Riverfront Trail
DESCRIPTION:
URL:https://spencerpride.org/calendar/rainbow-birders-mypath-riverfront-trail/
LOCATION:MyPath Riverfront Trail\, 788 Pottersville Rd\, Spencer\, 47460\, United States
CATEGORIES:Rainbow Birders
ATTACH;FMTTYPE=image/png:https://spencerpride.org/wp-content/uploads/2024/10/Rainbow-Birders-2024.png
ORGANIZER;CN="Wendy Wonderley":MAILTO:wendy@spencerpride.org
END:VEVENT
BEGIN:VEVENT
DTSTART;TZID=America/Indiana/Indianapolis:20250712T090000
DTEND;TZID=America/Indiana/Indianapolis:20250712T170000
DTSTAMP:20260424T011716
CREATED:20250601T182110Z
LAST-MODIFIED:20250601T182110Z
UID:10302-1752310800-1752339600@spencerpride.org
SUMMARY:Rainbow Birders: Goose Pond Summer Outing
DESCRIPTION:Goose Pond – ‘nuff said.\nOk\, maybe we should provide a few more details.\nWe are delighted to offer our return to the Goose Pond Fish and Wildlife Area as our Summer Big Time Birding experience! In mid-July\, Goose Pond has so much to offer\, including shorebirds\, herons/egrets\, marsh birds\, and so much more! Sure hope you can join us!\nContact Wendy@spencerpride.org for more details.
URL:https://spencerpride.org/calendar/rainbow-birders-goose-pond-summer-outing/
LOCATION:Goose Pond\, 13540 W. 400 S\, Linton\, IN\, 47441\, United States
CATEGORIES:Rainbow Birders
ATTACH;FMTTYPE=image/png:https://spencerpride.org/wp-content/uploads/2024/10/Rainbow-Birders-2024.png
ORGANIZER;CN="Wendy Wonderley":MAILTO:wendy@spencerpride.org
END:VEVENT
BEGIN:VEVENT
DTSTART;TZID=America/Indiana/Indianapolis:20250626T183000
DTEND;TZID=America/Indiana/Indianapolis:20250626T193000
DTSTAMP:20260424T011716
CREATED:20250609T211010Z
LAST-MODIFIED:20250609T211010Z
UID:10327-1750962600-1750966200@spencerpride.org
SUMMARY:Rainbow Birders and Indiana Audubon Society: Leading Inclusive Bird Outings
DESCRIPTION:Learn how to lead bird outings that are welcoming\, inclusive\, and accessible – no matter what the group. This online workshop is free and the Indiana Audubon Society is hosting it in partnership with Rainbow Birders. https://www.eventbrite.com/e/leading-inclusive-bird-outings-tickets-1329134891239
URL:https://spencerpride.org/calendar/rainbow-birders-and-indiana-audubon-society-leading-inclusive-bird-outings/
LOCATION:Spencer Pride Gathering Place\, 17 East Franklin Street\, Spencer\, IN\, 47460\, United States
CATEGORIES:Rainbow Birders
ATTACH;FMTTYPE=image/png:https://spencerpride.org/wp-content/uploads/2024/10/Rainbow-Birders-2024.png
ORGANIZER;CN="Wendy Wonderley":MAILTO:wendy@spencerpride.org
END:VEVENT
BEGIN:VEVENT
DTSTART;TZID=America/Indiana/Indianapolis:20250621T160000
DTEND;TZID=America/Indiana/Indianapolis:20250621T170000
DTSTAMP:20260424T011716
CREATED:20250605T233215Z
LAST-MODIFIED:20250605T233215Z
UID:10306-1750521600-1750525200@spencerpride.org
SUMMARY:Rainbow Birders: Off Night Productions Indiana Native Plants & Wildlife Guided Nature Walk
DESCRIPTION:Get ready for Off Night Productions’ summer mainstage production of Hurricane Diane — a hilarious and thought-provoking eco-comedy by Pulitzer finalist Madeleine George — by learning more about one of the show’s central themes: native plants! \nHave you ever wondered what makes a plant native? Are all non-native plants invasive? How do native plants impact our local environment? Join us to explore common plants that are native and not native to Bloomington and learn how to identify what you have in your neighborhood. \nThis hour-long guided nature walk through RCA Community Park will be led by interpretive naturalist Kate Seader and will feature members of the Spencer Pride’s Rainbow Birders. \nKate is ready to teach guests of all ages what a native plants is\, and help you discover what native trees\, shrubs\, and flowering plants might be growing in your own backyard yard. Spencer Pride’s Rainbow Birders will join us to talk about how the presence of native plants contributes to the health of Indiana birds.\nThere is so much to learn from this hands-on program\, and all attendees will receive a special prize! Registration required. \nPlease note\, Hurricane Diane is recommended for ages 13+ \nAccessibility Information: This walk will take place on paved trails that can accommodate guests using mobility aids. Accessible parking spots are available in the RCA Park. Learn more about amenities and accessibility in RCA Community Park on the City of Bloomington Parks & Recreation website. \nRegister in Advance
URL:https://spencerpride.org/calendar/rainbow-birders-off-night-productions-indiana-native-plants-wildlife-guided-nature-walk/
LOCATION:RCA Community Park\, 1400 W RCA Park Drive\, Bloomington\, IN\, 47403\, United States
CATEGORIES:Rainbow Birders
ATTACH;FMTTYPE=image/png:https://spencerpride.org/wp-content/uploads/2024/10/Rainbow-Birders-2024.png
ORGANIZER;CN="Wendy Wonderley":MAILTO:wendy@spencerpride.org
END:VEVENT
BEGIN:VEVENT
DTSTART;TZID=America/Indiana/Indianapolis:20250621T081500
DTEND;TZID=America/Indiana/Indianapolis:20250621T170000
DTSTAMP:20260424T011716
CREATED:20250525T133554Z
LAST-MODIFIED:20250525T133554Z
UID:10014-1750493700-1750525200@spencerpride.org
SUMMARY:Rainbow Birders: Clear Creek Trail
DESCRIPTION:
URL:https://spencerpride.org/calendar/rainbow-birders-clear-creek-trail/
LOCATION:Clear Creek Trail\, West That Road\, Bloomington\, IN\, United States
CATEGORIES:Rainbow Birders
ATTACH;FMTTYPE=image/png:https://spencerpride.org/wp-content/uploads/2024/10/Rainbow-Birders-2024.png
ORGANIZER;CN="Wendy Wonderley":MAILTO:wendy@spencerpride.org
END:VEVENT
END:VCALENDAR