BEGIN:VCALENDAR
VERSION:2.0
PRODID:-//Spencer Pride - ECPv6.15.20//NONSGML v1.0//EN
CALSCALE:GREGORIAN
METHOD:PUBLISH
X-ORIGINAL-URL:https://spencerpride.org
X-WR-CALDESC:Events for Spencer Pride
REFRESH-INTERVAL;VALUE=DURATION:PT1H
X-Robots-Tag:noindex
X-PUBLISHED-TTL:PT1H
BEGIN:VTIMEZONE
TZID:America/Indiana/Indianapolis
BEGIN:DAYLIGHT
TZOFFSETFROM:-0500
TZOFFSETTO:-0400
TZNAME:EDT
DTSTART:20250309T070000
END:DAYLIGHT
BEGIN:STANDARD
TZOFFSETFROM:-0400
TZOFFSETTO:-0500
TZNAME:EST
DTSTART:20251102T060000
END:STANDARD
BEGIN:DAYLIGHT
TZOFFSETFROM:-0500
TZOFFSETTO:-0400
TZNAME:EDT
DTSTART:20260308T070000
END:DAYLIGHT
BEGIN:STANDARD
TZOFFSETFROM:-0400
TZOFFSETTO:-0500
TZNAME:EST
DTSTART:20261101T060000
END:STANDARD
BEGIN:DAYLIGHT
TZOFFSETFROM:-0500
TZOFFSETTO:-0400
TZNAME:EDT
DTSTART:20270314T070000
END:DAYLIGHT
BEGIN:STANDARD
TZOFFSETFROM:-0400
TZOFFSETTO:-0500
TZNAME:EST
DTSTART:20271107T060000
END:STANDARD
END:VTIMEZONE
BEGIN:VEVENT
DTSTART;TZID=America/Indiana/Indianapolis:20261001T181500
DTEND;TZID=America/Indiana/Indianapolis:20261001T191500
DTSTAMP:20260423T053637
CREATED:20251222T225037Z
LAST-MODIFIED:20251222T225037Z
UID:10852-1790878500-1790882100@spencerpride.org
SUMMARY:Rainbow Dancers: Dance Class
DESCRIPTION:A group for people who love dancing and want to learn it and do it whenever they can.
URL:https://spencerpride.org/calendar/rainbow-dancers-dance-class-66/
LOCATION:Golden Discovery Ballroom\, 17 East Franklin Street\, Spencer\, IN\, 47460\, United States
CATEGORIES:Pride Dancers
ATTACH;FMTTYPE=image/png:https://spencerpride.org/wp-content/uploads/2024/10/Dancers-2024.png
ORGANIZER;CN="Jacob Balash":MAILTO:jacob@spencerpride.org
END:VEVENT
BEGIN:VEVENT
DTSTART;TZID=America/Indiana/Indianapolis:20261008T181500
DTEND;TZID=America/Indiana/Indianapolis:20261008T191500
DTSTAMP:20260423T053637
CREATED:20251222T225040Z
LAST-MODIFIED:20251222T225040Z
UID:10853-1791483300-1791486900@spencerpride.org
SUMMARY:Rainbow Dancers: Dance Class
DESCRIPTION:A group for people who love dancing and want to learn it and do it whenever they can.
URL:https://spencerpride.org/calendar/rainbow-dancers-dance-class-67/
LOCATION:Golden Discovery Ballroom\, 17 East Franklin Street\, Spencer\, IN\, 47460\, United States
CATEGORIES:Pride Dancers
ATTACH;FMTTYPE=image/png:https://spencerpride.org/wp-content/uploads/2024/10/Dancers-2024.png
ORGANIZER;CN="Jacob Balash":MAILTO:jacob@spencerpride.org
END:VEVENT
BEGIN:VEVENT
DTSTART;TZID=America/Indiana/Indianapolis:20261015T181500
DTEND;TZID=America/Indiana/Indianapolis:20261015T191500
DTSTAMP:20260423T053637
CREATED:20251222T225044Z
LAST-MODIFIED:20251222T225044Z
UID:10854-1792088100-1792091700@spencerpride.org
SUMMARY:Rainbow Dancers: Dance Class
DESCRIPTION:A group for people who love dancing and want to learn it and do it whenever they can.
URL:https://spencerpride.org/calendar/rainbow-dancers-dance-class-68/
LOCATION:Golden Discovery Ballroom\, 17 East Franklin Street\, Spencer\, IN\, 47460\, United States
CATEGORIES:Pride Dancers
ATTACH;FMTTYPE=image/png:https://spencerpride.org/wp-content/uploads/2024/10/Dancers-2024.png
ORGANIZER;CN="Jacob Balash":MAILTO:jacob@spencerpride.org
END:VEVENT
BEGIN:VEVENT
DTSTART;TZID=America/Indiana/Indianapolis:20261022T181500
DTEND;TZID=America/Indiana/Indianapolis:20261022T191500
DTSTAMP:20260423T053637
CREATED:20251222T225048Z
LAST-MODIFIED:20251222T225048Z
UID:10855-1792692900-1792696500@spencerpride.org
SUMMARY:Rainbow Dancers: Dance Class
DESCRIPTION:A group for people who love dancing and want to learn it and do it whenever they can.
URL:https://spencerpride.org/calendar/rainbow-dancers-dance-class-69/
LOCATION:Golden Discovery Ballroom\, 17 East Franklin Street\, Spencer\, IN\, 47460\, United States
CATEGORIES:Pride Dancers
ATTACH;FMTTYPE=image/png:https://spencerpride.org/wp-content/uploads/2024/10/Dancers-2024.png
ORGANIZER;CN="Jacob Balash":MAILTO:jacob@spencerpride.org
END:VEVENT
BEGIN:VEVENT
DTSTART;TZID=America/Indiana/Indianapolis:20261029T181500
DTEND;TZID=America/Indiana/Indianapolis:20261029T191500
DTSTAMP:20260423T053637
CREATED:20251222T225051Z
LAST-MODIFIED:20251222T225051Z
UID:10856-1793297700-1793301300@spencerpride.org
SUMMARY:Rainbow Dancers: Dance Class
DESCRIPTION:A group for people who love dancing and want to learn it and do it whenever they can.
URL:https://spencerpride.org/calendar/rainbow-dancers-dance-class-70/
LOCATION:Golden Discovery Ballroom\, 17 East Franklin Street\, Spencer\, IN\, 47460\, United States
CATEGORIES:Pride Dancers
ATTACH;FMTTYPE=image/png:https://spencerpride.org/wp-content/uploads/2024/10/Dancers-2024.png
ORGANIZER;CN="Jacob Balash":MAILTO:jacob@spencerpride.org
END:VEVENT
END:VCALENDAR