BEGIN:VCALENDAR
VERSION:2.0
PRODID:-//Spencer Pride - ECPv6.15.20//NONSGML v1.0//EN
CALSCALE:GREGORIAN
METHOD:PUBLISH
X-WR-CALNAME:Spencer Pride
X-ORIGINAL-URL:https://spencerpride.org
X-WR-CALDESC:Events for Spencer Pride
REFRESH-INTERVAL;VALUE=DURATION:PT1H
X-Robots-Tag:noindex
X-PUBLISHED-TTL:PT1H
BEGIN:VTIMEZONE
TZID:America/Indiana/Indianapolis
BEGIN:DAYLIGHT
TZOFFSETFROM:-0500
TZOFFSETTO:-0400
TZNAME:EDT
DTSTART:20240310T070000
END:DAYLIGHT
BEGIN:STANDARD
TZOFFSETFROM:-0400
TZOFFSETTO:-0500
TZNAME:EST
DTSTART:20241103T060000
END:STANDARD
BEGIN:DAYLIGHT
TZOFFSETFROM:-0500
TZOFFSETTO:-0400
TZNAME:EDT
DTSTART:20250309T070000
END:DAYLIGHT
BEGIN:STANDARD
TZOFFSETFROM:-0400
TZOFFSETTO:-0500
TZNAME:EST
DTSTART:20251102T060000
END:STANDARD
BEGIN:DAYLIGHT
TZOFFSETFROM:-0500
TZOFFSETTO:-0400
TZNAME:EDT
DTSTART:20260308T070000
END:DAYLIGHT
BEGIN:STANDARD
TZOFFSETFROM:-0400
TZOFFSETTO:-0500
TZNAME:EST
DTSTART:20261101T060000
END:STANDARD
BEGIN:DAYLIGHT
TZOFFSETFROM:-0500
TZOFFSETTO:-0400
TZNAME:EDT
DTSTART:20270314T070000
END:DAYLIGHT
BEGIN:STANDARD
TZOFFSETFROM:-0400
TZOFFSETTO:-0500
TZNAME:EST
DTSTART:20271107T060000
END:STANDARD
END:VTIMEZONE
BEGIN:VEVENT
DTSTART;TZID=America/Indiana/Indianapolis:20260419T150000
DTEND;TZID=America/Indiana/Indianapolis:20260419T161500
DTSTAMP:20260426T002201
CREATED:20251222T010124Z
LAST-MODIFIED:20251222T010124Z
UID:10705-1776610800-1776615300@spencerpride.org
SUMMARY:Rainbow Sunday Circle - April  2026
DESCRIPTION:A discussion group focused on spirituality and personal beliefs\, led by Reverend Karen Williams. \nEvery person’s experience and perspective is welcome in a respectful context of spiritual growth without judgment. \nIf you would like to be a part of this conversation\, please join us at the commUnity center. \nFor more information about the Rainbow Sunday Circle\, please contact Rev. Karen Williams (she/her) at Karen@SpencerPride.org.
URL:https://spencerpride.org/calendar/rainbow-sunday-circle-april-2026/
LOCATION:Golden Discovery Ballroom\, 17 East Franklin Street\, Spencer\, IN\, 47460\, United States
CATEGORIES:Rainbow Sunday Circle
ATTACH;FMTTYPE=image/png:https://spencerpride.org/wp-content/uploads/2024/10/Rainbow-Sunday-Circle-2024.png
ORGANIZER;CN="Karen Williams":MAILTO:karen@spencerpride.org
END:VEVENT
BEGIN:VEVENT
DTSTART;TZID=America/Indiana/Indianapolis:20260315T150000
DTEND;TZID=America/Indiana/Indianapolis:20260315T161500
DTSTAMP:20260426T002201
CREATED:20251222T010121Z
LAST-MODIFIED:20251222T010121Z
UID:10704-1773586800-1773591300@spencerpride.org
SUMMARY:Rainbow Sunday Circle - March  2026
DESCRIPTION:A discussion group focused on spirituality and personal beliefs\, led by Reverend Karen Williams. \nEvery person’s experience and perspective is welcome in a respectful context of spiritual growth without judgment. \nIf you would like to be a part of this conversation\, please join us at the commUnity center. \nFor more information about the Rainbow Sunday Circle\, please contact Rev. Karen Williams (she/her) at Karen@SpencerPride.org.
URL:https://spencerpride.org/calendar/rainbow-sunday-circle-march-2026/
LOCATION:Golden Discovery Ballroom\, 17 East Franklin Street\, Spencer\, IN\, 47460\, United States
CATEGORIES:Rainbow Sunday Circle
ATTACH;FMTTYPE=image/png:https://spencerpride.org/wp-content/uploads/2024/10/Rainbow-Sunday-Circle-2024.png
ORGANIZER;CN="Karen Williams":MAILTO:karen@spencerpride.org
END:VEVENT
BEGIN:VEVENT
DTSTART;TZID=America/Indiana/Indianapolis:20260215T150000
DTEND;TZID=America/Indiana/Indianapolis:20260215T161500
DTSTAMP:20260426T002201
CREATED:20251222T010117Z
LAST-MODIFIED:20251222T010117Z
UID:10703-1771167600-1771172100@spencerpride.org
SUMMARY:Rainbow Sunday Circle - February  2026
DESCRIPTION:A discussion group focused on spirituality and personal beliefs\, led by Reverend Karen Williams. \nEvery person’s experience and perspective is welcome in a respectful context of spiritual growth without judgment. \nIf you would like to be a part of this conversation\, please join us at the commUnity center. \nFor more information about the Rainbow Sunday Circle\, please contact Rev. Karen Williams (she/her) at Karen@SpencerPride.org.
URL:https://spencerpride.org/calendar/rainbow-sunday-circle-february-2026/
LOCATION:Golden Discovery Ballroom\, 17 East Franklin Street\, Spencer\, IN\, 47460\, United States
CATEGORIES:Rainbow Sunday Circle
ATTACH;FMTTYPE=image/png:https://spencerpride.org/wp-content/uploads/2024/10/Rainbow-Sunday-Circle-2024.png
ORGANIZER;CN="Karen Williams":MAILTO:karen@spencerpride.org
END:VEVENT
BEGIN:VEVENT
DTSTART;TZID=America/Indiana/Indianapolis:20260118T150000
DTEND;TZID=America/Indiana/Indianapolis:20260118T161500
DTSTAMP:20260426T002201
CREATED:20251222T010114Z
LAST-MODIFIED:20251222T010114Z
UID:10702-1768748400-1768752900@spencerpride.org
SUMMARY:Rainbow Sunday Circle - January 2026
DESCRIPTION:A discussion group focused on spirituality and personal beliefs\, led by Reverend Karen Williams. \nEvery person’s experience and perspective is welcome in a respectful context of spiritual growth without judgment. \nIf you would like to be a part of this conversation\, please join us at the commUnity center. \nFor more information about the Rainbow Sunday Circle\, please contact Rev. Karen Williams (she/her) at Karen@SpencerPride.org.
URL:https://spencerpride.org/calendar/rainbow-sunday-circle-january-2026/
LOCATION:Golden Discovery Ballroom\, 17 East Franklin Street\, Spencer\, IN\, 47460\, United States
CATEGORIES:Rainbow Sunday Circle
ATTACH;FMTTYPE=image/png:https://spencerpride.org/wp-content/uploads/2024/10/Rainbow-Sunday-Circle-2024.png
ORGANIZER;CN="Karen Williams":MAILTO:karen@spencerpride.org
END:VEVENT
BEGIN:VEVENT
DTSTART;TZID=America/Indiana/Indianapolis:20251221T160000
DTEND;TZID=America/Indiana/Indianapolis:20251221T171500
DTSTAMP:20260426T002201
CREATED:20250525T195934Z
LAST-MODIFIED:20250525T195934Z
UID:10245-1766332800-1766337300@spencerpride.org
SUMMARY:Rainbow Sunday Circle
DESCRIPTION:A discussion group focused on spirituality and personal beliefs\, led by Reverend Karen Williams. \nEvery person’s experience and perspective is welcome in a respectful context of spiritual growth without judgment. \nIf you would like to be a part of this conversation\, please join us at the commUnity center. \nFor more information about the Rainbow Sunday Circle\, please contact Rev. Karen Williams (she/her) at Karen@SpencerPride.org.
URL:https://spencerpride.org/calendar/rainbow-sunday-circle-7/
LOCATION:Spencer Pride Meeting Room\, 17 E. Franklin Street\, Spencer\, IN\, 47460\, United States
CATEGORIES:Rainbow Sunday Circle
ATTACH;FMTTYPE=image/png:https://spencerpride.org/wp-content/uploads/2024/10/Rainbow-Sunday-Circle-2024.png
ORGANIZER;CN="Karen Williams":MAILTO:karen@spencerpride.org
END:VEVENT
BEGIN:VEVENT
DTSTART;TZID=America/Indiana/Indianapolis:20251116T160000
DTEND;TZID=America/Indiana/Indianapolis:20251116T171500
DTSTAMP:20260426T002201
CREATED:20250525T194943Z
LAST-MODIFIED:20250525T194943Z
UID:10242-1763308800-1763313300@spencerpride.org
SUMMARY:Rainbow Sunday Circle
DESCRIPTION:A discussion group focused on spirituality and personal beliefs\, led by Reverend Karen Williams. \nEvery person’s experience and perspective is welcome in a respectful context of spiritual growth without judgment. \nIf you would like to be a part of this conversation\, please join us at the commUnity center. \nFor more information about the Rainbow Sunday Circle\, please contact Rev. Karen Williams (she/her) at Karen@SpencerPride.org.
URL:https://spencerpride.org/calendar/rainbow-sunday-circle-6/
LOCATION:Spencer Pride Meeting Room\, 17 E. Franklin Street\, Spencer\, IN\, 47460\, United States
CATEGORIES:Rainbow Sunday Circle
ATTACH;FMTTYPE=image/png:https://spencerpride.org/wp-content/uploads/2024/10/Rainbow-Sunday-Circle-2024.png
ORGANIZER;CN="Karen Williams":MAILTO:karen@spencerpride.org
END:VEVENT
BEGIN:VEVENT
DTSTART;TZID=America/Indiana/Indianapolis:20251019T160000
DTEND;TZID=America/Indiana/Indianapolis:20251019T171500
DTSTAMP:20260426T002201
CREATED:20250525T192244Z
LAST-MODIFIED:20250525T192244Z
UID:10212-1760889600-1760894100@spencerpride.org
SUMMARY:Rainbow Sunday Circle
DESCRIPTION:A discussion group focused on spirituality and personal beliefs\, led by Reverend Karen Williams. \nEvery person’s experience and perspective is welcome in a respectful context of spiritual growth without judgment. \nIf you would like to be a part of this conversation\, please join us at the commUnity center. \nFor more information about the Rainbow Sunday Circle\, please contact Rev. Karen Williams (she/her) at Karen@SpencerPride.org.
URL:https://spencerpride.org/calendar/rainbow-sunday-circle-5/
LOCATION:Spencer Pride Meeting Room\, 17 E. Franklin Street\, Spencer\, IN\, 47460\, United States
CATEGORIES:Rainbow Sunday Circle
ATTACH;FMTTYPE=image/png:https://spencerpride.org/wp-content/uploads/2024/10/Rainbow-Sunday-Circle-2024.png
ORGANIZER;CN="Karen Williams":MAILTO:karen@spencerpride.org
END:VEVENT
BEGIN:VEVENT
DTSTART;TZID=America/Indiana/Indianapolis:20250921T150000
DTEND;TZID=America/Indiana/Indianapolis:20250921T160000
DTSTAMP:20260426T002201
CREATED:20250525T190213Z
LAST-MODIFIED:20250830T115258Z
UID:10186-1758466800-1758470400@spencerpride.org
SUMMARY:Rainbow Sunday Circle
DESCRIPTION:A discussion group focused on spirituality and personal beliefs\, led by Reverend Karen Williams. \nEvery person’s experience and perspective is welcome in a respectful context of spiritual growth without judgment. \nIf you would like to be a part of this conversation\, please join us at the commUnity center. \nFor more information about the Rainbow Sunday Circle\, please contact Rev. Karen Williams (she/her) at Karen@SpencerPride.org.
URL:https://spencerpride.org/calendar/rainbow-sunday-circle-4/
LOCATION:Spencer Pride Meeting Room\, 17 E. Franklin Street\, Spencer\, IN\, 47460\, United States
CATEGORIES:Rainbow Sunday Circle
ATTACH;FMTTYPE=image/png:https://spencerpride.org/wp-content/uploads/2024/10/Rainbow-Sunday-Circle-2024.png
ORGANIZER;CN="Karen Williams":MAILTO:karen@spencerpride.org
END:VEVENT
BEGIN:VEVENT
DTSTART;TZID=America/Indiana/Indianapolis:20250817T160000
DTEND;TZID=America/Indiana/Indianapolis:20250817T171500
DTSTAMP:20260426T002201
CREATED:20250525T145251Z
LAST-MODIFIED:20250525T145251Z
UID:10097-1755446400-1755450900@spencerpride.org
SUMMARY:Rainbow Sunday Circle
DESCRIPTION:A discussion group focused on spirituality and personal beliefs\, led by Reverend Karen Williams. \nEvery person’s experience and perspective is welcome in a respectful context of spiritual growth without judgment. \nIf you would like to be a part of this conversation\, please join us at the commUnity center. \nFor more information about the Rainbow Sunday Circle\, please contact Rev. Karen Williams (she/her) at Karen@SpencerPride.org.
URL:https://spencerpride.org/calendar/rainbow-sunday-circle-3/
LOCATION:Spencer Pride Meeting Room\, 17 E. Franklin Street\, Spencer\, IN\, 47460\, United States
CATEGORIES:Rainbow Sunday Circle
ATTACH;FMTTYPE=image/png:https://spencerpride.org/wp-content/uploads/2024/10/Rainbow-Sunday-Circle-2024.png
ORGANIZER;CN="Karen Williams":MAILTO:karen@spencerpride.org
END:VEVENT
BEGIN:VEVENT
DTSTART;TZID=America/Indiana/Indianapolis:20250720T160000
DTEND;TZID=America/Indiana/Indianapolis:20250720T171500
DTSTAMP:20260426T002201
CREATED:20250525T141422Z
LAST-MODIFIED:20250525T141422Z
UID:10064-1753027200-1753031700@spencerpride.org
SUMMARY:Rainbow Sunday Circle
DESCRIPTION:A discussion group focused on spirituality and personal beliefs\, led by Reverend Karen Williams. \nEvery person’s experience and perspective is welcome in a respectful context of spiritual growth without judgment. \nIf you would like to be a part of this conversation\, please join us at the commUnity center. \nFor more information about the Rainbow Sunday Circle\, please contact Rev. Karen Williams (she/her) at Karen@SpencerPride.org.
URL:https://spencerpride.org/calendar/rainbow-sunday-circle-2/
LOCATION:Spencer Pride Meeting Room\, 17 E. Franklin Street\, Spencer\, IN\, 47460\, United States
CATEGORIES:Rainbow Sunday Circle
ATTACH;FMTTYPE=image/png:https://spencerpride.org/wp-content/uploads/2024/10/Rainbow-Sunday-Circle-2024.png
ORGANIZER;CN="Karen Williams":MAILTO:karen@spencerpride.org
END:VEVENT
BEGIN:VEVENT
DTSTART;TZID=America/Indiana/Indianapolis:20250615T160000
DTEND;TZID=America/Indiana/Indianapolis:20250615T171500
DTSTAMP:20260426T002201
CREATED:20250525T131826Z
LAST-MODIFIED:20250525T131826Z
UID:10007-1750003200-1750007700@spencerpride.org
SUMMARY:Rainbow Sunday Circle
DESCRIPTION:A discussion group focused on spirituality and personal beliefs\, led by Reverend Karen Williams. \nEvery person’s experience and perspective is welcome in a respectful context of spiritual growth without judgment. \nIf you would like to be a part of this conversation\, please join us at the commUnity center. \nFor more information about the Rainbow Sunday Circle\, please contact Rev. Karen Williams (she/her) at Karen@SpencerPride.org.
URL:https://spencerpride.org/calendar/rainbow-sunday-circle/
LOCATION:Spencer Pride Meeting Room\, 17 E. Franklin Street\, Spencer\, IN\, 47460\, United States
CATEGORIES:Rainbow Sunday Circle
ATTACH;FMTTYPE=image/png:https://spencerpride.org/wp-content/uploads/2024/10/Rainbow-Sunday-Circle-2024.png
ORGANIZER;CN="Karen Williams":MAILTO:karen@spencerpride.org
END:VEVENT
END:VCALENDAR