BEGIN:VCALENDAR
VERSION:2.0
PRODID:-//Spencer Pride - ECPv6.15.20//NONSGML v1.0//EN
CALSCALE:GREGORIAN
METHOD:PUBLISH
X-ORIGINAL-URL:https://spencerpride.org
X-WR-CALDESC:Events for Spencer Pride
REFRESH-INTERVAL;VALUE=DURATION:PT1H
X-Robots-Tag:noindex
X-PUBLISHED-TTL:PT1H
BEGIN:VTIMEZONE
TZID:America/Indiana/Indianapolis
BEGIN:DAYLIGHT
TZOFFSETFROM:-0500
TZOFFSETTO:-0400
TZNAME:EDT
DTSTART:20240310T070000
END:DAYLIGHT
BEGIN:STANDARD
TZOFFSETFROM:-0400
TZOFFSETTO:-0500
TZNAME:EST
DTSTART:20241103T060000
END:STANDARD
BEGIN:DAYLIGHT
TZOFFSETFROM:-0500
TZOFFSETTO:-0400
TZNAME:EDT
DTSTART:20250309T070000
END:DAYLIGHT
BEGIN:STANDARD
TZOFFSETFROM:-0400
TZOFFSETTO:-0500
TZNAME:EST
DTSTART:20251102T060000
END:STANDARD
BEGIN:DAYLIGHT
TZOFFSETFROM:-0500
TZOFFSETTO:-0400
TZNAME:EDT
DTSTART:20260308T070000
END:DAYLIGHT
BEGIN:STANDARD
TZOFFSETFROM:-0400
TZOFFSETTO:-0500
TZNAME:EST
DTSTART:20261101T060000
END:STANDARD
END:VTIMEZONE
BEGIN:VEVENT
DTSTART;TZID=America/Indiana/Indianapolis:20250906T100000
DTEND;TZID=America/Indiana/Indianapolis:20250906T110000
DTSTAMP:20260425T201518
CREATED:20250525T183715Z
LAST-MODIFIED:20250525T183715Z
UID:10132-1757152800-1757156400@spencerpride.org
SUMMARY:Math Builders: Tutoring Session
DESCRIPTION:We are providing free tutoring to students in grades 6-12 to build and improve math skills. This includes public school math and Singapore math (utilized at Seven Oaks Classical School).\n\nContact Andrew@SpencerPride.org for more information.
URL:https://spencerpride.org/calendar/math-builders-tutoring-session-4/
LOCATION:Spencer Pride Meeting Room\, 17 E. Franklin Street\, Spencer\, IN\, 47460\, United States
CATEGORIES:Math Builders
ATTACH;FMTTYPE=image/png:https://spencerpride.org/wp-content/uploads/2024/11/Math-Builders.png
ORGANIZER;CN="Andrew Olsson":MAILTO:andrew@spencerpride.org
END:VEVENT
BEGIN:VEVENT
DTSTART;TZID=America/Indiana/Indianapolis:20250912T170000
DTEND;TZID=America/Indiana/Indianapolis:20250912T190000
DTSTAMP:20260425T201518
CREATED:20250525T184926Z
LAST-MODIFIED:20250525T184926Z
UID:10165-1757696400-1757703600@spencerpride.org
SUMMARY:Craft Nights
DESCRIPTION:We invite you to come participate in Craft Nights!\n\nCraft Nights is a program where individuals bring their own supplies to work on a project while others do the same. It’s a way to connect socially\, enjoy your hobby\, and be productive in the process!\n\nWhether you quilt\, scrapbook\, paint\, decoupage\, or anything of the like\, this program is for you!\n\nFor more information\, contact Cat@SpencerPride.org.
URL:https://spencerpride.org/calendar/craft-nights-7/
LOCATION:Golden Discovery Ballroom\, 17 East Franklin Street\, Spencer\, IN\, 47460\, United States
CATEGORIES:Craft Nights
ATTACH;FMTTYPE=image/png:https://spencerpride.org/wp-content/uploads/2024/12/Craft-Nights.png
ORGANIZER;CN="Cat Spratt":MAILTO:cat@spencerpride.org
END:VEVENT
BEGIN:VEVENT
DTSTART;TZID=America/Indiana/Indianapolis:20250913T100000
DTEND;TZID=America/Indiana/Indianapolis:20250913T110000
DTSTAMP:20260425T201518
CREATED:20250525T183757Z
LAST-MODIFIED:20250525T183757Z
UID:10135-1757757600-1757761200@spencerpride.org
SUMMARY:Math Builders: Tutoring Session
DESCRIPTION:We are providing free tutoring to students in grades 6-12 to build and improve math skills. This includes public school math and Singapore math (utilized at Seven Oaks Classical School).\n\nContact Andrew@SpencerPride.org for more information.
URL:https://spencerpride.org/calendar/math-builders-tutoring-session-5/
LOCATION:Spencer Pride Meeting Room\, 17 E. Franklin Street\, Spencer\, IN\, 47460\, United States
CATEGORIES:Math Builders
ATTACH;FMTTYPE=image/png:https://spencerpride.org/wp-content/uploads/2024/11/Math-Builders.png
ORGANIZER;CN="Andrew Olsson":MAILTO:andrew@spencerpride.org
END:VEVENT
BEGIN:VEVENT
DTSTART;TZID=America/Indiana/Indianapolis:20250920T100000
DTEND;TZID=America/Indiana/Indianapolis:20250920T110000
DTSTAMP:20260425T201518
CREATED:20250525T183900Z
LAST-MODIFIED:20250525T183900Z
UID:10137-1758362400-1758366000@spencerpride.org
SUMMARY:Math Builders: Tutoring Session
DESCRIPTION:We are providing free tutoring to students in grades 6-12 to build and improve math skills. This includes public school math and Singapore math (utilized at Seven Oaks Classical School).\n\nContact Andrew@SpencerPride.org for more information.
URL:https://spencerpride.org/calendar/math-builders-tutoring-session-6/
LOCATION:Spencer Pride Meeting Room\, 17 E. Franklin Street\, Spencer\, IN\, 47460\, United States
CATEGORIES:Math Builders
ATTACH;FMTTYPE=image/png:https://spencerpride.org/wp-content/uploads/2024/11/Math-Builders.png
ORGANIZER;CN="Andrew Olsson":MAILTO:andrew@spencerpride.org
END:VEVENT
BEGIN:VEVENT
DTSTART;TZID=America/Indiana/Indianapolis:20250920T160000
DTEND;TZID=America/Indiana/Indianapolis:20250920T180000
DTSTAMP:20260425T201518
CREATED:20250525T190100Z
LAST-MODIFIED:20250525T190100Z
UID:10184-1758384000-1758391200@spencerpride.org
SUMMARY:Rainbow Rollers: Open Game Night
DESCRIPTION:Come prepared to have fun and bring a friend to: Open Game Night\, presented by Rainbow Rollers.\n\nYou are welcome to bring your favorite treat or beverage\, but there is no obligation to do so.\n\nGames will be provided and Collin will be available to assist with learning new games.\n\nContact Phillip@SpencerPride.org for more info!
URL:https://spencerpride.org/calendar/rainbow-rollers-open-game-night-3/
LOCATION:Spencer Pride Meeting Room\, 17 E. Franklin Street\, Spencer\, IN\, 47460\, United States
CATEGORIES:Rainbow Rollers
ATTACH;FMTTYPE=image/png:https://spencerpride.org/wp-content/uploads/2024/10/Rainbow-Rollers-2024.png
ORGANIZER;CN="Phillip O'Neill":MAILTO:phillip@spencerpride.org
END:VEVENT
BEGIN:VEVENT
DTSTART;TZID=America/Indiana/Indianapolis:20250926T170000
DTEND;TZID=America/Indiana/Indianapolis:20250926T190000
DTSTAMP:20260425T201518
CREATED:20250525T185026Z
LAST-MODIFIED:20250525T185026Z
UID:10167-1758906000-1758913200@spencerpride.org
SUMMARY:Craft Nights
DESCRIPTION:We invite you to come participate in Craft Nights!\n\nCraft Nights is a program where individuals bring their own supplies to work on a project while others do the same. It’s a way to connect socially\, enjoy your hobby\, and be productive in the process!\n\nWhether you quilt\, scrapbook\, paint\, decoupage\, or anything of the like\, this program is for you!\n\nFor more information\, contact Cat@SpencerPride.org.
URL:https://spencerpride.org/calendar/craft-nights-8/
LOCATION:Golden Discovery Ballroom\, 17 East Franklin Street\, Spencer\, IN\, 47460\, United States
CATEGORIES:Craft Nights
ATTACH;FMTTYPE=image/png:https://spencerpride.org/wp-content/uploads/2024/12/Craft-Nights.png
ORGANIZER;CN="Cat Spratt":MAILTO:cat@spencerpride.org
END:VEVENT
BEGIN:VEVENT
DTSTART;TZID=America/Indiana/Indianapolis:20250927T100000
DTEND;TZID=America/Indiana/Indianapolis:20250927T110000
DTSTAMP:20260425T201518
CREATED:20250525T183941Z
LAST-MODIFIED:20250525T183941Z
UID:10140-1758967200-1758970800@spencerpride.org
SUMMARY:Math Builders: Tutoring Session
DESCRIPTION:We are providing free tutoring to students in grades 6-12 to build and improve math skills. This includes public school math and Singapore math (utilized at Seven Oaks Classical School).\n\nContact Andrew@SpencerPride.org for more information.
URL:https://spencerpride.org/calendar/math-builders-tutoring-session-7/
LOCATION:Spencer Pride Meeting Room\, 17 E. Franklin Street\, Spencer\, IN\, 47460\, United States
CATEGORIES:Math Builders
ATTACH;FMTTYPE=image/png:https://spencerpride.org/wp-content/uploads/2024/11/Math-Builders.png
ORGANIZER;CN="Andrew Olsson":MAILTO:andrew@spencerpride.org
END:VEVENT
END:VCALENDAR