BEGIN:VCALENDAR
VERSION:2.0
PRODID:-//Spencer Pride - ECPv6.15.20//NONSGML v1.0//EN
CALSCALE:GREGORIAN
METHOD:PUBLISH
X-ORIGINAL-URL:https://spencerpride.org
X-WR-CALDESC:Events for Spencer Pride
REFRESH-INTERVAL;VALUE=DURATION:PT1H
X-Robots-Tag:noindex
X-PUBLISHED-TTL:PT1H
BEGIN:VTIMEZONE
TZID:America/Indiana/Indianapolis
BEGIN:DAYLIGHT
TZOFFSETFROM:-0500
TZOFFSETTO:-0400
TZNAME:EDT
DTSTART:20250309T070000
END:DAYLIGHT
BEGIN:STANDARD
TZOFFSETFROM:-0400
TZOFFSETTO:-0500
TZNAME:EST
DTSTART:20251102T060000
END:STANDARD
BEGIN:DAYLIGHT
TZOFFSETFROM:-0500
TZOFFSETTO:-0400
TZNAME:EDT
DTSTART:20260308T070000
END:DAYLIGHT
BEGIN:STANDARD
TZOFFSETFROM:-0400
TZOFFSETTO:-0500
TZNAME:EST
DTSTART:20261101T060000
END:STANDARD
BEGIN:DAYLIGHT
TZOFFSETFROM:-0500
TZOFFSETTO:-0400
TZNAME:EDT
DTSTART:20270314T070000
END:DAYLIGHT
BEGIN:STANDARD
TZOFFSETFROM:-0400
TZOFFSETTO:-0500
TZNAME:EST
DTSTART:20271107T060000
END:STANDARD
END:VTIMEZONE
BEGIN:VEVENT
DTSTART;TZID=America/Indiana/Indianapolis:20260612T170000
DTEND;TZID=America/Indiana/Indianapolis:20260612T190000
DTSTAMP:20260425T071219
CREATED:20251222T001037Z
LAST-MODIFIED:20260331T221555Z
UID:10669-1781283600-1781290800@spencerpride.org
SUMMARY:Craft Nights
DESCRIPTION:We invite you to come participate in Craft Nights! \nCraft Nights is a program where individuals bring their own supplies to work on a project while others do the same. It’s a way to connect socially\, enjoy your hobby\, and be productive in the process! \nWhether you quilt\, scrapbook\, paint\, decoupage\, or anything of the like\, this program is for you! \nFor more information\, contact Cat@SpencerPride.org.
URL:https://spencerpride.org/calendar/craft-nights-25/
LOCATION:Golden Discovery Ballroom\, 17 East Franklin Street\, Spencer\, IN\, 47460\, United States
CATEGORIES:Craft Nights
ATTACH;FMTTYPE=image/png:https://spencerpride.org/wp-content/uploads/2024/12/Craft-Nights.png
ORGANIZER;CN="Cat Spratt":MAILTO:cat@spencerpride.org
END:VEVENT
BEGIN:VEVENT
DTSTART;TZID=America/Indiana/Indianapolis:20260613T080000
DTEND;TZID=America/Indiana/Indianapolis:20260621T230000
DTSTAMP:20260425T071219
CREATED:20250531T233111Z
LAST-MODIFIED:20250830T120319Z
UID:10281-1781337600-1782082800@spencerpride.org
SUMMARY:Rainbow Cruisers to the Caribbean
DESCRIPTION:We are excited to announce Spencer Pride’s next cruise! We will be sailing to the Caribbean on the Celebrity Beyond from June 14-21\, 2026. The cruise is open to anyone who wants to support our work and experience Pride Month with us on the ocean! It is a family-friendly experience that is sure to offer something for everyone. \nTo register or get more details\, scan the QR code or visit https://spencerpride.johnheathtravel.com/. For each stateroom reserved\, Spencer Pride will receive a donation. Our 2024 cruise to Alaska helped us raise $4\,000\, and we hope to exceed that amount in 2026.
URL:https://spencerpride.org/calendar/rainbow-cruisers-to-the-caribbean/
CATEGORIES:Fundraising
ATTACH;FMTTYPE=image/png:https://spencerpride.org/wp-content/uploads/2025/05/Cruisers-scaled.png
ORGANIZER;CN="Elisabeth Solchik":MAILTO:elisabeth@spencerpride.org
END:VEVENT
BEGIN:VEVENT
DTSTART;TZID=America/Indiana/Indianapolis:20260620T160000
DTEND;TZID=America/Indiana/Indianapolis:20260620T180000
DTSTAMP:20260425T071219
CREATED:20251222T222332Z
LAST-MODIFIED:20251222T222332Z
UID:10790-1781971200-1781978400@spencerpride.org
SUMMARY:Rainbow Rollers: Open Game Night - June 2026
DESCRIPTION:Come prepared to have fun and bring a friend to: Open Game Night\, presented by Rainbow Rollers.\nYou are welcome to bring your favorite treat or beverage\, but there is no obligation to do so.\nGames will be provided and volunteers will be available to assist with learning new games.\nContact Phillip@SpencerPride.org for more info!
URL:https://spencerpride.org/calendar/rainbow-rollers-open-game-night-june-2026/
LOCATION:Golden Discovery Ballroom\, 17 East Franklin Street\, Spencer\, IN\, 47460\, United States
CATEGORIES:Rainbow Rollers
ATTACH;FMTTYPE=image/png:https://spencerpride.org/wp-content/uploads/2024/10/Rainbow-Rollers-2024.png
ORGANIZER;CN="Phillip O'Neill":MAILTO:phillip@spencerpride.org
END:VEVENT
BEGIN:VEVENT
DTSTART;TZID=America/Indiana/Indianapolis:20260626T170000
DTEND;TZID=America/Indiana/Indianapolis:20260626T190000
DTSTAMP:20260425T071219
CREATED:20251222T001041Z
LAST-MODIFIED:20260331T221623Z
UID:10670-1782493200-1782500400@spencerpride.org
SUMMARY:Craft Nights
DESCRIPTION:We invite you to come participate in Craft Nights! \nCraft Nights is a program where individuals bring their own supplies to work on a project while others do the same. It’s a way to connect socially\, enjoy your hobby\, and be productive in the process! \nWhether you quilt\, scrapbook\, paint\, decoupage\, or anything of the like\, this program is for you! \nFor more information\, contact Cat@SpencerPride.org.
URL:https://spencerpride.org/calendar/craft-nights-26/
LOCATION:Golden Discovery Ballroom\, 17 East Franklin Street\, Spencer\, IN\, 47460\, United States
CATEGORIES:Craft Nights
ATTACH;FMTTYPE=image/png:https://spencerpride.org/wp-content/uploads/2024/12/Craft-Nights.png
ORGANIZER;CN="Cat Spratt":MAILTO:cat@spencerpride.org
END:VEVENT
END:VCALENDAR