BEGIN:VCALENDAR
VERSION:2.0
PRODID:-//Spencer Pride - ECPv6.15.20//NONSGML v1.0//EN
CALSCALE:GREGORIAN
METHOD:PUBLISH
X-WR-CALNAME:Spencer Pride
X-ORIGINAL-URL:https://spencerpride.org
X-WR-CALDESC:Events for Spencer Pride
REFRESH-INTERVAL;VALUE=DURATION:PT1H
X-Robots-Tag:noindex
X-PUBLISHED-TTL:PT1H
BEGIN:VTIMEZONE
TZID:America/Indiana/Indianapolis
BEGIN:DAYLIGHT
TZOFFSETFROM:-0500
TZOFFSETTO:-0400
TZNAME:EDT
DTSTART:20240310T070000
END:DAYLIGHT
BEGIN:STANDARD
TZOFFSETFROM:-0400
TZOFFSETTO:-0500
TZNAME:EST
DTSTART:20241103T060000
END:STANDARD
BEGIN:DAYLIGHT
TZOFFSETFROM:-0500
TZOFFSETTO:-0400
TZNAME:EDT
DTSTART:20250309T070000
END:DAYLIGHT
BEGIN:STANDARD
TZOFFSETFROM:-0400
TZOFFSETTO:-0500
TZNAME:EST
DTSTART:20251102T060000
END:STANDARD
BEGIN:DAYLIGHT
TZOFFSETFROM:-0500
TZOFFSETTO:-0400
TZNAME:EDT
DTSTART:20260308T070000
END:DAYLIGHT
BEGIN:STANDARD
TZOFFSETFROM:-0400
TZOFFSETTO:-0500
TZNAME:EST
DTSTART:20261101T060000
END:STANDARD
END:VTIMEZONE
BEGIN:VEVENT
DTSTART;TZID=America/Indiana/Indianapolis:20250605T170000
DTEND;TZID=America/Indiana/Indianapolis:20250605T190000
DTSTAMP:20260424T154549
CREATED:20250525T124201Z
LAST-MODIFIED:20250525T135906Z
UID:9986-1749142800-1749150000@spencerpride.org
SUMMARY:Health & Wellness: HIV & Hepatitis C Screening
DESCRIPTION:Just a quick finger stick\nRapid results\nTakes about 20 minutes\nFree case management if test comes back reactive \nWalk ins welcome or call for an appointment: 812-325-9943
URL:https://spencerpride.org/calendar/health-wellness-hiv-hepatitis-c-screening/
LOCATION:Spencer Pride Health & Wellness Office\, 17 East Franklin Street\, Spencer\, IN\, 47460\, United States
CATEGORIES:Health and Wellness
ATTACH;FMTTYPE=image/png:https://spencerpride.org/wp-content/uploads/2024/10/HW-2024.png
END:VEVENT
BEGIN:VEVENT
DTSTART;TZID=America/Indiana/Indianapolis:20250611T181500
DTEND;TZID=America/Indiana/Indianapolis:20250611T191500
DTSTAMP:20260424T154549
CREATED:20250609T122054Z
LAST-MODIFIED:20250609T122054Z
UID:10311-1749665700-1749669300@spencerpride.org
SUMMARY:COMMUNITY Yoga
DESCRIPTION:COMMUNITY Yoga – designed for all people of all abilities and with no experience required.\n\nThis free program will take place on the second Wednesday of every month at 6:15 in the commUnity center’s meeting room.\n\nParticipants need to bring their own yoga mat.\n\nFor more information\, contact Julie.M@SpencerPride.org
URL:https://spencerpride.org/calendar/community-yoga/
LOCATION:Spencer Pride Meeting Room\, 17 E. Franklin Street\, Spencer\, IN\, 47460\, United States
CATEGORIES:COMMUNITY Yoga
ATTACH;FMTTYPE=image/png:https://spencerpride.org/wp-content/uploads/2025/03/Yoga.png
ORGANIZER;CN="Julie Madwell":MAILTO:Julie.M@SpencerPride.org
END:VEVENT
BEGIN:VEVENT
DTSTART;TZID=America/Indiana/Indianapolis:20250628T110000
DTEND;TZID=America/Indiana/Indianapolis:20250628T140000
DTSTAMP:20260424T154549
CREATED:20250525T201859Z
LAST-MODIFIED:20250525T201859Z
UID:10276-1751108400-1751119200@spencerpride.org
SUMMARY:Health & Wellness: Blood Drive
DESCRIPTION:Due to the overwhelming popularity of our first-ever blood drive back in March\, Spencer Pride is once again partnering with Versiti to host a second drive. On Saturday\, June 28\, we invite you to consider making a blood donation. The drive will run from 11 am until 2 pm. Donating blood is a critical way that you can help save the lives of your fellow Hoosiers. \nDid you know donated blood will typically be used within 24-48 hours after your donation? When you donate\, you ensure we can avoid a critical shortage of blood in our local hospitals. THREE people can be impacted by your gift! \nDonors will receive an Indiana Fever t-shirt\, while supplies last. \nAPPOINTMENTS PREFERRED: Scan the QR code or visit the following link to schedule your lifesaving donation today: https://donateblood.versiti.org/donor/schedules/drive_schedule/11613110 \nWalk-ins are also welcomed.
URL:https://spencerpride.org/calendar/health-wellness-blood-drive/
LOCATION:Spencer Pride Meeting Room\, 17 E. Franklin Street\, Spencer\, IN\, 47460\, United States
CATEGORIES:Health and Wellness
ATTACH;FMTTYPE=image/png:https://spencerpride.org/wp-content/uploads/2024/10/HW-2024.png
END:VEVENT
END:VCALENDAR