BEGIN:VCALENDAR
VERSION:2.0
PRODID:-//Spencer Pride - ECPv6.15.20//NONSGML v1.0//EN
CALSCALE:GREGORIAN
METHOD:PUBLISH
X-ORIGINAL-URL:https://spencerpride.org
X-WR-CALDESC:Events for Spencer Pride
REFRESH-INTERVAL;VALUE=DURATION:PT1H
X-Robots-Tag:noindex
X-PUBLISHED-TTL:PT1H
BEGIN:VTIMEZONE
TZID:America/Indiana/Indianapolis
BEGIN:DAYLIGHT
TZOFFSETFROM:-0500
TZOFFSETTO:-0400
TZNAME:EDT
DTSTART:20250309T070000
END:DAYLIGHT
BEGIN:STANDARD
TZOFFSETFROM:-0400
TZOFFSETTO:-0500
TZNAME:EST
DTSTART:20251102T060000
END:STANDARD
BEGIN:DAYLIGHT
TZOFFSETFROM:-0500
TZOFFSETTO:-0400
TZNAME:EDT
DTSTART:20260308T070000
END:DAYLIGHT
BEGIN:STANDARD
TZOFFSETFROM:-0400
TZOFFSETTO:-0500
TZNAME:EST
DTSTART:20261101T060000
END:STANDARD
BEGIN:DAYLIGHT
TZOFFSETFROM:-0500
TZOFFSETTO:-0400
TZNAME:EDT
DTSTART:20270314T070000
END:DAYLIGHT
BEGIN:STANDARD
TZOFFSETFROM:-0400
TZOFFSETTO:-0500
TZNAME:EST
DTSTART:20271107T060000
END:STANDARD
END:VTIMEZONE
BEGIN:VEVENT
DTSTART;TZID=America/Indiana/Indianapolis:20260110T110000
DTEND;TZID=America/Indiana/Indianapolis:20260110T140000
DTSTAMP:20260420T023707
CREATED:20251231T175719Z
LAST-MODIFIED:20251231T175719Z
UID:10895-1768042800-1768053600@spencerpride.org
SUMMARY:Blood Drive: Judi's Drive
DESCRIPTION:On Saturday\, January 10 we will be hosting our next blood drive at the commUnity center. You can reserve an appointment in advance or walk-in. We are hoping to have at least 21 donors this time. This particular blood drive we are calling “Judi’s Drive\,” in honor of our recently passed co-founder Judi Epp. Making a blood donation is an important way to contribute to the health of our community and we hope you’ll consider donating.
URL:https://spencerpride.org/calendar/blood-drive-judis-drive/
LOCATION:Golden Discovery Ballroom\, 17 East Franklin Street\, Spencer\, IN\, 47460\, United States
CATEGORIES:commUnity center,Health and Wellness
ATTACH;FMTTYPE=image/png:https://spencerpride.org/wp-content/uploads/2024/10/commUnity-center-2024.png
ORGANIZER;CN="Jonathan Balash":MAILTO:jonathan@spencerpride.org
END:VEVENT
BEGIN:VEVENT
DTSTART;TZID=America/Indiana/Indianapolis:20260114T181500
DTEND;TZID=America/Indiana/Indianapolis:20260114T191500
DTSTAMP:20260420T023707
CREATED:20251222T003430Z
LAST-MODIFIED:20251222T003430Z
UID:10687-1768414500-1768418100@spencerpride.org
SUMMARY:COMMUNITY Yoga - January 2026
DESCRIPTION:COMMUNITY Yoga – designed for all people of all abilities and with no experience required. \nThis free program will take place on the second Wednesday of every month at 6:15 in the commUnity center’s meeting room. \nParticipants need to bring their own yoga mat. \nFor more information\, contact Julie.M@SpencerPride.org
URL:https://spencerpride.org/calendar/community-yoga-january-2026/
LOCATION:Golden Discovery Ballroom\, 17 East Franklin Street\, Spencer\, IN\, 47460\, United States
CATEGORIES:COMMUNITY Yoga
ATTACH;FMTTYPE=image/png:https://spencerpride.org/wp-content/uploads/2025/03/Yoga.png
ORGANIZER;CN="Julie Madwell":MAILTO:Julie.M@SpencerPride.org
END:VEVENT
BEGIN:VEVENT
DTSTART;TZID=America/Indiana/Indianapolis:20260115T170000
DTEND;TZID=America/Indiana/Indianapolis:20260115T190000
DTSTAMP:20260420T023707
CREATED:20251223T205935Z
LAST-MODIFIED:20251223T205935Z
UID:10867-1768496400-1768503600@spencerpride.org
SUMMARY:Health & Wellness: HIV & Hepatitis C Screening
DESCRIPTION:Just a quick finger stick\nRapid results\nTakes about 20 minutes\nFree case management if test comes back reactive \nWalk ins welcome or call for an appointment: 812-325-9943
URL:https://spencerpride.org/calendar/health-wellness-hiv-hepatitis-c-screening-8/
CATEGORIES:Health and Wellness
ATTACH;FMTTYPE=image/png:https://spencerpride.org/wp-content/uploads/2024/10/HW-2024.png
END:VEVENT
END:VCALENDAR