BEGIN:VCALENDAR
VERSION:2.0
PRODID:-//Spencer Pride - ECPv6.15.20//NONSGML v1.0//EN
CALSCALE:GREGORIAN
METHOD:PUBLISH
X-ORIGINAL-URL:https://spencerpride.org
X-WR-CALDESC:Events for Spencer Pride
REFRESH-INTERVAL;VALUE=DURATION:PT1H
X-Robots-Tag:noindex
X-PUBLISHED-TTL:PT1H
BEGIN:VTIMEZONE
TZID:America/Indiana/Indianapolis
BEGIN:DAYLIGHT
TZOFFSETFROM:-0500
TZOFFSETTO:-0400
TZNAME:EDT
DTSTART:20250309T070000
END:DAYLIGHT
BEGIN:STANDARD
TZOFFSETFROM:-0400
TZOFFSETTO:-0500
TZNAME:EST
DTSTART:20251102T060000
END:STANDARD
BEGIN:DAYLIGHT
TZOFFSETFROM:-0500
TZOFFSETTO:-0400
TZNAME:EDT
DTSTART:20260308T070000
END:DAYLIGHT
BEGIN:STANDARD
TZOFFSETFROM:-0400
TZOFFSETTO:-0500
TZNAME:EST
DTSTART:20261101T060000
END:STANDARD
BEGIN:DAYLIGHT
TZOFFSETFROM:-0500
TZOFFSETTO:-0400
TZNAME:EDT
DTSTART:20270314T070000
END:DAYLIGHT
BEGIN:STANDARD
TZOFFSETFROM:-0400
TZOFFSETTO:-0500
TZNAME:EST
DTSTART:20271107T060000
END:STANDARD
END:VTIMEZONE
BEGIN:VEVENT
DTSTART;TZID=America/Indiana/Indianapolis:20260412T153000
DTEND;TZID=America/Indiana/Indianapolis:20260412T173000
DTSTAMP:20260425T111836
CREATED:20260321T125004Z
LAST-MODIFIED:20260321T125004Z
UID:11028-1776007800-1776015000@spencerpride.org
SUMMARY:Rainbow Birders: Armchair Birding at Barb's
DESCRIPTION:Please join us for our first-ever Armchair Birding event: Armchair Birding at Barb’s! The Rainbow Birding & the Rainbow Chatting will make this a very fun event! And\, if you’d like to participate in our Bird Intelligence dramatic reading\, please email Wendy@SpencerPride.org for your very own part.
URL:https://spencerpride.org/calendar/rainbow-birders-armchair-birding/
CATEGORIES:Rainbow Birders
ATTACH;FMTTYPE=image/png:https://spencerpride.org/wp-content/uploads/2024/10/Rainbow-Birders-2024.png
ORGANIZER;CN="Wendy Wonderley":MAILTO:wendy@spencerpride.org
END:VEVENT
END:VCALENDAR