BEGIN:VCALENDAR
VERSION:2.0
PRODID:-//Spencer Pride - ECPv6.15.20//NONSGML v1.0//EN
CALSCALE:GREGORIAN
METHOD:PUBLISH
X-ORIGINAL-URL:https://spencerpride.org
X-WR-CALDESC:Events for Spencer Pride
REFRESH-INTERVAL;VALUE=DURATION:PT1H
X-Robots-Tag:noindex
X-PUBLISHED-TTL:PT1H
BEGIN:VTIMEZONE
TZID:America/Indiana/Indianapolis
BEGIN:DAYLIGHT
TZOFFSETFROM:-0500
TZOFFSETTO:-0400
TZNAME:EDT
DTSTART:20250309T070000
END:DAYLIGHT
BEGIN:STANDARD
TZOFFSETFROM:-0400
TZOFFSETTO:-0500
TZNAME:EST
DTSTART:20251102T060000
END:STANDARD
BEGIN:DAYLIGHT
TZOFFSETFROM:-0500
TZOFFSETTO:-0400
TZNAME:EDT
DTSTART:20260308T070000
END:DAYLIGHT
BEGIN:STANDARD
TZOFFSETFROM:-0400
TZOFFSETTO:-0500
TZNAME:EST
DTSTART:20261101T060000
END:STANDARD
BEGIN:DAYLIGHT
TZOFFSETFROM:-0500
TZOFFSETTO:-0400
TZNAME:EDT
DTSTART:20270314T070000
END:DAYLIGHT
BEGIN:STANDARD
TZOFFSETFROM:-0400
TZOFFSETTO:-0500
TZNAME:EST
DTSTART:20271107T060000
END:STANDARD
END:VTIMEZONE
BEGIN:VEVENT
DTSTART;TZID=America/Indiana/Indianapolis:20260423T181500
DTEND;TZID=America/Indiana/Indianapolis:20260423T191500
DTSTAMP:20260423T184700
CREATED:20251222T224915Z
LAST-MODIFIED:20251222T224915Z
UID:10829-1776968100-1776971700@spencerpride.org
SUMMARY:Rainbow Dancers: Dance Class
DESCRIPTION:A group for people who love dancing and want to learn it and do it whenever they can.
URL:https://spencerpride.org/calendar/rainbow-dancers-dance-class-43/
LOCATION:Golden Discovery Ballroom\, 17 East Franklin Street\, Spencer\, IN\, 47460\, United States
CATEGORIES:Pride Dancers
ATTACH;FMTTYPE=image/png:https://spencerpride.org/wp-content/uploads/2024/10/Dancers-2024.png
ORGANIZER;CN="Jacob Balash":MAILTO:jacob@spencerpride.org
END:VEVENT
BEGIN:VEVENT
DTSTART;TZID=America/Indiana/Indianapolis:20260425T100000
DTEND;TZID=America/Indiana/Indianapolis:20260425T110000
DTSTAMP:20260423T184700
CREATED:20251222T015103Z
LAST-MODIFIED:20251222T015103Z
UID:10735-1777111200-1777114800@spencerpride.org
SUMMARY:Math Builders: Tutoring Session
DESCRIPTION:We are providing free tutoring to students in grades 6-12 to build and improve math skills. This includes public school math and Singapore math (utilized at Seven Oaks Classical School). \nContact Andrew@SpencerPride.org for more information.
URL:https://spencerpride.org/calendar/math-builders-tutoring-session-30/
LOCATION:Golden Discovery Ballroom\, 17 East Franklin Street\, Spencer\, IN\, 47460\, United States
CATEGORIES:Math Builders
ATTACH;FMTTYPE=image/png:https://spencerpride.org/wp-content/uploads/2024/11/Math-Builders.png
ORGANIZER;CN="Andrew Olsson":MAILTO:andrew@spencerpride.org
END:VEVENT
BEGIN:VEVENT
DTSTART;TZID=America/Indiana/Indianapolis:20260430T181500
DTEND;TZID=America/Indiana/Indianapolis:20260430T191500
DTSTAMP:20260423T184700
CREATED:20251222T224918Z
LAST-MODIFIED:20251222T224918Z
UID:10830-1777572900-1777576500@spencerpride.org
SUMMARY:Rainbow Dancers: Dance Class
DESCRIPTION:A group for people who love dancing and want to learn it and do it whenever they can.
URL:https://spencerpride.org/calendar/rainbow-dancers-dance-class-44/
LOCATION:Golden Discovery Ballroom\, 17 East Franklin Street\, Spencer\, IN\, 47460\, United States
CATEGORIES:Pride Dancers
ATTACH;FMTTYPE=image/png:https://spencerpride.org/wp-content/uploads/2024/10/Dancers-2024.png
ORGANIZER;CN="Jacob Balash":MAILTO:jacob@spencerpride.org
END:VEVENT
BEGIN:VEVENT
DTSTART;TZID=America/Indiana/Indianapolis:20260501T173000
DTEND;TZID=America/Indiana/Indianapolis:20260501T190000
DTSTAMP:20260423T184700
CREATED:20251221T190900Z
LAST-MODIFIED:20251221T190900Z
UID:10649-1777656600-1777662000@spencerpride.org
SUMMARY:Grief Haven Spousal Support Group - May  2026
DESCRIPTION:A spousal grief support group for members of the LGBTQ+ community & allies.
URL:https://spencerpride.org/calendar/grief-haven-spousal-support-group-may-2026/
CATEGORIES:Grief Haven Spousal Support
ATTACH;FMTTYPE=image/png:https://spencerpride.org/wp-content/uploads/2024/10/Grief-Haven-2024.png
END:VEVENT
BEGIN:VEVENT
DTSTART;TZID=America/Indiana/Indianapolis:20260502T100000
DTEND;TZID=America/Indiana/Indianapolis:20260502T110000
DTSTAMP:20260423T184700
CREATED:20251222T015107Z
LAST-MODIFIED:20251222T015107Z
UID:10736-1777716000-1777719600@spencerpride.org
SUMMARY:Math Builders: Tutoring Session
DESCRIPTION:We are providing free tutoring to students in grades 6-12 to build and improve math skills. This includes public school math and Singapore math (utilized at Seven Oaks Classical School). \nContact Andrew@SpencerPride.org for more information.
URL:https://spencerpride.org/calendar/math-builders-tutoring-session-31/
LOCATION:Golden Discovery Ballroom\, 17 East Franklin Street\, Spencer\, IN\, 47460\, United States
CATEGORIES:Math Builders
ATTACH;FMTTYPE=image/png:https://spencerpride.org/wp-content/uploads/2024/11/Math-Builders.png
ORGANIZER;CN="Andrew Olsson":MAILTO:andrew@spencerpride.org
END:VEVENT
BEGIN:VEVENT
DTSTART;TZID=America/Indiana/Indianapolis:20260507T181500
DTEND;TZID=America/Indiana/Indianapolis:20260507T191500
DTSTAMP:20260423T184700
CREATED:20251222T224922Z
LAST-MODIFIED:20251222T224922Z
UID:10831-1778177700-1778181300@spencerpride.org
SUMMARY:Rainbow Dancers: Dance Class
DESCRIPTION:A group for people who love dancing and want to learn it and do it whenever they can.
URL:https://spencerpride.org/calendar/rainbow-dancers-dance-class-45/
LOCATION:Golden Discovery Ballroom\, 17 East Franklin Street\, Spencer\, IN\, 47460\, United States
CATEGORIES:Pride Dancers
ATTACH;FMTTYPE=image/png:https://spencerpride.org/wp-content/uploads/2024/10/Dancers-2024.png
ORGANIZER;CN="Jacob Balash":MAILTO:jacob@spencerpride.org
END:VEVENT
BEGIN:VEVENT
DTSTART;TZID=America/Indiana/Indianapolis:20260509T100000
DTEND;TZID=America/Indiana/Indianapolis:20260509T110000
DTSTAMP:20260423T184700
CREATED:20251222T015112Z
LAST-MODIFIED:20251222T015112Z
UID:10737-1778320800-1778324400@spencerpride.org
SUMMARY:Math Builders: Tutoring Session
DESCRIPTION:We are providing free tutoring to students in grades 6-12 to build and improve math skills. This includes public school math and Singapore math (utilized at Seven Oaks Classical School). \nContact Andrew@SpencerPride.org for more information.
URL:https://spencerpride.org/calendar/math-builders-tutoring-session-32/
LOCATION:Golden Discovery Ballroom\, 17 East Franklin Street\, Spencer\, IN\, 47460\, United States
CATEGORIES:Math Builders
ATTACH;FMTTYPE=image/png:https://spencerpride.org/wp-content/uploads/2024/11/Math-Builders.png
ORGANIZER;CN="Andrew Olsson":MAILTO:andrew@spencerpride.org
END:VEVENT
BEGIN:VEVENT
DTSTART;TZID=America/Indiana/Indianapolis:20260513T181500
DTEND;TZID=America/Indiana/Indianapolis:20260513T191500
DTSTAMP:20260423T184700
CREATED:20251222T003445Z
LAST-MODIFIED:20251222T003445Z
UID:10691-1778696100-1778699700@spencerpride.org
SUMMARY:COMMUNITY Yoga - May  2026
DESCRIPTION:COMMUNITY Yoga – designed for all people of all abilities and with no experience required. \nThis free program will take place on the second Wednesday of every month at 6:15 in the commUnity center’s meeting room. \nParticipants need to bring their own yoga mat. \nFor more information\, contact Julie.M@SpencerPride.org
URL:https://spencerpride.org/calendar/community-yoga-may-2026/
LOCATION:Golden Discovery Ballroom\, 17 East Franklin Street\, Spencer\, IN\, 47460\, United States
CATEGORIES:COMMUNITY Yoga
ATTACH;FMTTYPE=image/png:https://spencerpride.org/wp-content/uploads/2025/03/Yoga.png
ORGANIZER;CN="Julie Madwell":MAILTO:Julie.M@SpencerPride.org
END:VEVENT
BEGIN:VEVENT
DTSTART;TZID=America/Indiana/Indianapolis:20260514T181500
DTEND;TZID=America/Indiana/Indianapolis:20260514T191500
DTSTAMP:20260423T184700
CREATED:20251222T224925Z
LAST-MODIFIED:20251222T224925Z
UID:10832-1778782500-1778786100@spencerpride.org
SUMMARY:Rainbow Dancers: Dance Class
DESCRIPTION:A group for people who love dancing and want to learn it and do it whenever they can.
URL:https://spencerpride.org/calendar/rainbow-dancers-dance-class-46/
LOCATION:Golden Discovery Ballroom\, 17 East Franklin Street\, Spencer\, IN\, 47460\, United States
CATEGORIES:Pride Dancers
ATTACH;FMTTYPE=image/png:https://spencerpride.org/wp-content/uploads/2024/10/Dancers-2024.png
ORGANIZER;CN="Jacob Balash":MAILTO:jacob@spencerpride.org
END:VEVENT
BEGIN:VEVENT
DTSTART;TZID=America/Indiana/Indianapolis:20260515T080000
DTEND;TZID=America/Indiana/Indianapolis:20260517T230000
DTSTAMP:20260423T184700
CREATED:20251223T225039Z
LAST-MODIFIED:20251223T225039Z
UID:10890-1778832000-1779058800@spencerpride.org
SUMMARY:Rainbow Birders: Indiana Dunes Birding Festival in Northwest Indiana
DESCRIPTION:Stay tuned for the next exciting event brought to you by the Spencer Pride Birders. \nContact Rainbow.Birders@SpencerPride.org for more details.
URL:https://spencerpride.org/calendar/rainbow-birders-indiana-dunes-birding-festival-in-northwest-indiana/
CATEGORIES:Rainbow Birders
ATTACH;FMTTYPE=image/png:https://spencerpride.org/wp-content/uploads/2024/10/Rainbow-Birders-2024.png
ORGANIZER;CN="Wendy Wonderley":MAILTO:wendy@spencerpride.org
END:VEVENT
BEGIN:VEVENT
DTSTART;TZID=America/Indiana/Indianapolis:20260516T100000
DTEND;TZID=America/Indiana/Indianapolis:20260516T110000
DTSTAMP:20260423T184700
CREATED:20251222T015116Z
LAST-MODIFIED:20251222T015116Z
UID:10738-1778925600-1778929200@spencerpride.org
SUMMARY:Math Builders: Tutoring Session
DESCRIPTION:We are providing free tutoring to students in grades 6-12 to build and improve math skills. This includes public school math and Singapore math (utilized at Seven Oaks Classical School). \nContact Andrew@SpencerPride.org for more information.
URL:https://spencerpride.org/calendar/math-builders-tutoring-session-33/
LOCATION:Golden Discovery Ballroom\, 17 East Franklin Street\, Spencer\, IN\, 47460\, United States
CATEGORIES:Math Builders
ATTACH;FMTTYPE=image/png:https://spencerpride.org/wp-content/uploads/2024/11/Math-Builders.png
ORGANIZER;CN="Andrew Olsson":MAILTO:andrew@spencerpride.org
END:VEVENT
BEGIN:VEVENT
DTSTART;TZID=America/Indiana/Indianapolis:20260517T150000
DTEND;TZID=America/Indiana/Indianapolis:20260517T161500
DTSTAMP:20260423T184700
CREATED:20251222T010128Z
LAST-MODIFIED:20251222T010128Z
UID:10706-1779030000-1779034500@spencerpride.org
SUMMARY:Rainbow Sunday Circle - May  2026
DESCRIPTION:A discussion group focused on spirituality and personal beliefs\, led by Reverend Karen Williams. \nEvery person’s experience and perspective is welcome in a respectful context of spiritual growth without judgment. \nIf you would like to be a part of this conversation\, please join us at the commUnity center. \nFor more information about the Rainbow Sunday Circle\, please contact Rev. Karen Williams (she/her) at Karen@SpencerPride.org.
URL:https://spencerpride.org/calendar/rainbow-sunday-circle-may-2026/
LOCATION:Golden Discovery Ballroom\, 17 East Franklin Street\, Spencer\, IN\, 47460\, United States
CATEGORIES:Rainbow Sunday Circle
ATTACH;FMTTYPE=image/png:https://spencerpride.org/wp-content/uploads/2024/10/Rainbow-Sunday-Circle-2024.png
ORGANIZER;CN="Karen Williams":MAILTO:karen@spencerpride.org
END:VEVENT
BEGIN:VEVENT
DTSTART;TZID=America/Indiana/Indianapolis:20260521T181500
DTEND;TZID=America/Indiana/Indianapolis:20260521T191500
DTSTAMP:20260423T184700
CREATED:20251222T224928Z
LAST-MODIFIED:20251222T224928Z
UID:10833-1779387300-1779390900@spencerpride.org
SUMMARY:Rainbow Dancers: Dance Class
DESCRIPTION:A group for people who love dancing and want to learn it and do it whenever they can.
URL:https://spencerpride.org/calendar/rainbow-dancers-dance-class-47/
LOCATION:Golden Discovery Ballroom\, 17 East Franklin Street\, Spencer\, IN\, 47460\, United States
CATEGORIES:Pride Dancers
ATTACH;FMTTYPE=image/png:https://spencerpride.org/wp-content/uploads/2024/10/Dancers-2024.png
ORGANIZER;CN="Jacob Balash":MAILTO:jacob@spencerpride.org
END:VEVENT
BEGIN:VEVENT
DTSTART;TZID=America/Indiana/Indianapolis:20260523T080000
DTEND;TZID=America/Indiana/Indianapolis:20260523T140000
DTSTAMP:20260423T184700
CREATED:20251222T021119Z
LAST-MODIFIED:20251223T225700Z
UID:10747-1779523200-1779544800@spencerpride.org
SUMMARY:Rainbow Birders: Browning Sanctuary PP
DESCRIPTION:Stay tuned for the next exciting event brought to you by the Spencer Pride Birders. \nContact Rainbow.Birders@SpencerPride.org for more details.
URL:https://spencerpride.org/calendar/rainbow-birders-may-2026/
CATEGORIES:Rainbow Birders
ATTACH;FMTTYPE=image/png:https://spencerpride.org/wp-content/uploads/2024/10/Rainbow-Birders-2024.png
ORGANIZER;CN="Wendy Wonderley":MAILTO:wendy@spencerpride.org
END:VEVENT
BEGIN:VEVENT
DTSTART;TZID=America/Indiana/Indianapolis:20260523T100000
DTEND;TZID=America/Indiana/Indianapolis:20260523T110000
DTSTAMP:20260423T184700
CREATED:20251222T015120Z
LAST-MODIFIED:20251222T015120Z
UID:10739-1779530400-1779534000@spencerpride.org
SUMMARY:Math Builders: Tutoring Session
DESCRIPTION:We are providing free tutoring to students in grades 6-12 to build and improve math skills. This includes public school math and Singapore math (utilized at Seven Oaks Classical School). \nContact Andrew@SpencerPride.org for more information.
URL:https://spencerpride.org/calendar/math-builders-tutoring-session-34/
LOCATION:Golden Discovery Ballroom\, 17 East Franklin Street\, Spencer\, IN\, 47460\, United States
CATEGORIES:Math Builders
ATTACH;FMTTYPE=image/png:https://spencerpride.org/wp-content/uploads/2024/11/Math-Builders.png
ORGANIZER;CN="Andrew Olsson":MAILTO:andrew@spencerpride.org
END:VEVENT
BEGIN:VEVENT
DTSTART;TZID=America/Indiana/Indianapolis:20260528T181500
DTEND;TZID=America/Indiana/Indianapolis:20260528T191500
DTSTAMP:20260423T184700
CREATED:20251222T224933Z
LAST-MODIFIED:20251222T224933Z
UID:10834-1779992100-1779995700@spencerpride.org
SUMMARY:Rainbow Dancers: Dance Class
DESCRIPTION:A group for people who love dancing and want to learn it and do it whenever they can.
URL:https://spencerpride.org/calendar/rainbow-dancers-dance-class-48/
LOCATION:Golden Discovery Ballroom\, 17 East Franklin Street\, Spencer\, IN\, 47460\, United States
CATEGORIES:Pride Dancers
ATTACH;FMTTYPE=image/png:https://spencerpride.org/wp-content/uploads/2024/10/Dancers-2024.png
ORGANIZER;CN="Jacob Balash":MAILTO:jacob@spencerpride.org
END:VEVENT
BEGIN:VEVENT
DTSTART;TZID=America/Indiana/Indianapolis:20260603T173000
DTEND;TZID=America/Indiana/Indianapolis:20260603T190000
DTSTAMP:20260423T184700
CREATED:20251221T190906Z
LAST-MODIFIED:20251221T190906Z
UID:10650-1780507800-1780513200@spencerpride.org
SUMMARY:Grief Haven Spousal Support Group - June 2026
DESCRIPTION:A spousal grief support group for members of the LGBTQ+ community & allies.
URL:https://spencerpride.org/calendar/grief-haven-spousal-support-group-june-2026/
CATEGORIES:Grief Haven Spousal Support
ATTACH;FMTTYPE=image/png:https://spencerpride.org/wp-content/uploads/2024/10/Grief-Haven-2024.png
END:VEVENT
BEGIN:VEVENT
DTSTART;TZID=America/Indiana/Indianapolis:20260604T181500
DTEND;TZID=America/Indiana/Indianapolis:20260604T191500
DTSTAMP:20260423T184700
CREATED:20251222T224936Z
LAST-MODIFIED:20251222T224936Z
UID:10835-1780596900-1780600500@spencerpride.org
SUMMARY:Rainbow Dancers: Dance Class
DESCRIPTION:A group for people who love dancing and want to learn it and do it whenever they can.
URL:https://spencerpride.org/calendar/rainbow-dancers-dance-class-49/
LOCATION:Golden Discovery Ballroom\, 17 East Franklin Street\, Spencer\, IN\, 47460\, United States
CATEGORIES:Pride Dancers
ATTACH;FMTTYPE=image/png:https://spencerpride.org/wp-content/uploads/2024/10/Dancers-2024.png
ORGANIZER;CN="Jacob Balash":MAILTO:jacob@spencerpride.org
END:VEVENT
BEGIN:VEVENT
DTSTART;TZID=America/Indiana/Indianapolis:20260610T181500
DTEND;TZID=America/Indiana/Indianapolis:20260610T191500
DTSTAMP:20260423T184700
CREATED:20251222T003451Z
LAST-MODIFIED:20251222T003451Z
UID:10692-1781115300-1781118900@spencerpride.org
SUMMARY:COMMUNITY Yoga - June 2026
DESCRIPTION:COMMUNITY Yoga – designed for all people of all abilities and with no experience required. \nThis free program will take place on the second Wednesday of every month at 6:15 in the commUnity center’s meeting room. \nParticipants need to bring their own yoga mat. \nFor more information\, contact Julie.M@SpencerPride.org
URL:https://spencerpride.org/calendar/community-yoga-june-2026/
LOCATION:Golden Discovery Ballroom\, 17 East Franklin Street\, Spencer\, IN\, 47460\, United States
CATEGORIES:COMMUNITY Yoga
ATTACH;FMTTYPE=image/png:https://spencerpride.org/wp-content/uploads/2025/03/Yoga.png
ORGANIZER;CN="Julie Madwell":MAILTO:Julie.M@SpencerPride.org
END:VEVENT
BEGIN:VEVENT
DTSTART;TZID=America/Indiana/Indianapolis:20260611T181500
DTEND;TZID=America/Indiana/Indianapolis:20260611T191500
DTSTAMP:20260423T184700
CREATED:20251222T224939Z
LAST-MODIFIED:20251222T224939Z
UID:10836-1781201700-1781205300@spencerpride.org
SUMMARY:Rainbow Dancers: Dance Class
DESCRIPTION:A group for people who love dancing and want to learn it and do it whenever they can.
URL:https://spencerpride.org/calendar/rainbow-dancers-dance-class-50/
LOCATION:Golden Discovery Ballroom\, 17 East Franklin Street\, Spencer\, IN\, 47460\, United States
CATEGORIES:Pride Dancers
ATTACH;FMTTYPE=image/png:https://spencerpride.org/wp-content/uploads/2024/10/Dancers-2024.png
ORGANIZER;CN="Jacob Balash":MAILTO:jacob@spencerpride.org
END:VEVENT
BEGIN:VEVENT
DTSTART;TZID=America/Indiana/Indianapolis:20260614T150000
DTEND;TZID=America/Indiana/Indianapolis:20260614T161500
DTSTAMP:20260423T184700
CREATED:20251222T010133Z
LAST-MODIFIED:20251222T010133Z
UID:10707-1781449200-1781453700@spencerpride.org
SUMMARY:Rainbow Sunday Circle - June 2026
DESCRIPTION:A discussion group focused on spirituality and personal beliefs\, led by Reverend Karen Williams. \nEvery person’s experience and perspective is welcome in a respectful context of spiritual growth without judgment. \nIf you would like to be a part of this conversation\, please join us at the commUnity center. \nFor more information about the Rainbow Sunday Circle\, please contact Rev. Karen Williams (she/her) at Karen@SpencerPride.org.
URL:https://spencerpride.org/calendar/rainbow-sunday-circle-june-2026/
LOCATION:Golden Discovery Ballroom\, 17 East Franklin Street\, Spencer\, IN\, 47460\, United States
CATEGORIES:Rainbow Sunday Circle
ATTACH;FMTTYPE=image/png:https://spencerpride.org/wp-content/uploads/2024/10/Rainbow-Sunday-Circle-2024.png
ORGANIZER;CN="Karen Williams":MAILTO:karen@spencerpride.org
END:VEVENT
BEGIN:VEVENT
DTSTART;TZID=America/Indiana/Indianapolis:20260618T181500
DTEND;TZID=America/Indiana/Indianapolis:20260618T191500
DTSTAMP:20260423T184700
CREATED:20251222T224943Z
LAST-MODIFIED:20251222T224943Z
UID:10837-1781806500-1781810100@spencerpride.org
SUMMARY:Rainbow Dancers: Dance Class
DESCRIPTION:A group for people who love dancing and want to learn it and do it whenever they can.
URL:https://spencerpride.org/calendar/rainbow-dancers-dance-class-51/
LOCATION:Golden Discovery Ballroom\, 17 East Franklin Street\, Spencer\, IN\, 47460\, United States
CATEGORIES:Pride Dancers
ATTACH;FMTTYPE=image/png:https://spencerpride.org/wp-content/uploads/2024/10/Dancers-2024.png
ORGANIZER;CN="Jacob Balash":MAILTO:jacob@spencerpride.org
END:VEVENT
BEGIN:VEVENT
DTSTART;TZID=America/Indiana/Indianapolis:20260625T181500
DTEND;TZID=America/Indiana/Indianapolis:20260625T191500
DTSTAMP:20260423T184700
CREATED:20251222T224946Z
LAST-MODIFIED:20251222T224946Z
UID:10838-1782411300-1782414900@spencerpride.org
SUMMARY:Rainbow Dancers: Dance Class
DESCRIPTION:A group for people who love dancing and want to learn it and do it whenever they can.
URL:https://spencerpride.org/calendar/rainbow-dancers-dance-class-52/
LOCATION:Golden Discovery Ballroom\, 17 East Franklin Street\, Spencer\, IN\, 47460\, United States
CATEGORIES:Pride Dancers
ATTACH;FMTTYPE=image/png:https://spencerpride.org/wp-content/uploads/2024/10/Dancers-2024.png
ORGANIZER;CN="Jacob Balash":MAILTO:jacob@spencerpride.org
END:VEVENT
BEGIN:VEVENT
DTSTART;TZID=America/Indiana/Indianapolis:20260627T080000
DTEND;TZID=America/Indiana/Indianapolis:20260627T140000
DTSTAMP:20260423T184700
CREATED:20251222T021125Z
LAST-MODIFIED:20251222T215948Z
UID:10748-1782547200-1782568800@spencerpride.org
SUMMARY:Rainbow Birders: Green's Bluff Nature Preserve
DESCRIPTION:Stay tuned for the next exciting event brought to you by the Spencer Pride Birders. \nContact Rainbow.Birders@SpencerPride.org for more details.
URL:https://spencerpride.org/calendar/rainbow-birders-june-2026/
CATEGORIES:Rainbow Birders
ATTACH;FMTTYPE=image/png:https://spencerpride.org/wp-content/uploads/2024/10/Rainbow-Birders-2024.png
ORGANIZER;CN="Wendy Wonderley":MAILTO:wendy@spencerpride.org
END:VEVENT
BEGIN:VEVENT
DTSTART;TZID=America/Indiana/Indianapolis:20260701T173000
DTEND;TZID=America/Indiana/Indianapolis:20260701T190000
DTSTAMP:20260423T184700
CREATED:20251221T190910Z
LAST-MODIFIED:20251221T190910Z
UID:10651-1782927000-1782932400@spencerpride.org
SUMMARY:Grief Haven Spousal Support Group - July  2026
DESCRIPTION:A spousal grief support group for members of the LGBTQ+ community & allies.
URL:https://spencerpride.org/calendar/grief-haven-spousal-support-group-july-2026/
CATEGORIES:Grief Haven Spousal Support
ATTACH;FMTTYPE=image/png:https://spencerpride.org/wp-content/uploads/2024/10/Grief-Haven-2024.png
END:VEVENT
BEGIN:VEVENT
DTSTART;TZID=America/Indiana/Indianapolis:20260702T181500
DTEND;TZID=America/Indiana/Indianapolis:20260702T191500
DTSTAMP:20260423T184700
CREATED:20251222T224951Z
LAST-MODIFIED:20251222T224951Z
UID:10839-1783016100-1783019700@spencerpride.org
SUMMARY:Rainbow Dancers: Dance Class
DESCRIPTION:A group for people who love dancing and want to learn it and do it whenever they can.
URL:https://spencerpride.org/calendar/rainbow-dancers-dance-class-53/
LOCATION:Golden Discovery Ballroom\, 17 East Franklin Street\, Spencer\, IN\, 47460\, United States
CATEGORIES:Pride Dancers
ATTACH;FMTTYPE=image/png:https://spencerpride.org/wp-content/uploads/2024/10/Dancers-2024.png
ORGANIZER;CN="Jacob Balash":MAILTO:jacob@spencerpride.org
END:VEVENT
BEGIN:VEVENT
DTSTART;TZID=America/Indiana/Indianapolis:20260704T100000
DTEND;TZID=America/Indiana/Indianapolis:20260704T190000
DTSTAMP:20260423T184700
CREATED:20251223T210801Z
LAST-MODIFIED:20251223T210801Z
UID:10882-1783159200-1783191600@spencerpride.org
SUMMARY:commUnity center CLOSED
DESCRIPTION:The commUnity center will be closed today due to the holiday.
URL:https://spencerpride.org/calendar/community-center-closed-2/
CATEGORIES:commUnity center
ATTACH;FMTTYPE=image/png:https://spencerpride.org/wp-content/uploads/2024/10/commUnity-center-2024.png
ORGANIZER;CN="Jonathan Balash":MAILTO:jonathan@spencerpride.org
END:VEVENT
BEGIN:VEVENT
DTSTART;TZID=America/Indiana/Indianapolis:20260708T181500
DTEND;TZID=America/Indiana/Indianapolis:20260708T191500
DTSTAMP:20260423T184700
CREATED:20251222T003455Z
LAST-MODIFIED:20251222T003455Z
UID:10693-1783534500-1783538100@spencerpride.org
SUMMARY:COMMUNITY Yoga - July  2026
DESCRIPTION:COMMUNITY Yoga – designed for all people of all abilities and with no experience required. \nThis free program will take place on the second Wednesday of every month at 6:15 in the commUnity center’s meeting room. \nParticipants need to bring their own yoga mat. \nFor more information\, contact Julie.M@SpencerPride.org
URL:https://spencerpride.org/calendar/community-yoga-july-2026/
LOCATION:Golden Discovery Ballroom\, 17 East Franklin Street\, Spencer\, IN\, 47460\, United States
CATEGORIES:COMMUNITY Yoga
ATTACH;FMTTYPE=image/png:https://spencerpride.org/wp-content/uploads/2025/03/Yoga.png
ORGANIZER;CN="Julie Madwell":MAILTO:Julie.M@SpencerPride.org
END:VEVENT
BEGIN:VEVENT
DTSTART;TZID=America/Indiana/Indianapolis:20260709T181500
DTEND;TZID=America/Indiana/Indianapolis:20260709T191500
DTSTAMP:20260423T184700
CREATED:20251222T224954Z
LAST-MODIFIED:20251222T224954Z
UID:10840-1783620900-1783624500@spencerpride.org
SUMMARY:Rainbow Dancers: Dance Class
DESCRIPTION:A group for people who love dancing and want to learn it and do it whenever they can.
URL:https://spencerpride.org/calendar/rainbow-dancers-dance-class-54/
LOCATION:Golden Discovery Ballroom\, 17 East Franklin Street\, Spencer\, IN\, 47460\, United States
CATEGORIES:Pride Dancers
ATTACH;FMTTYPE=image/png:https://spencerpride.org/wp-content/uploads/2024/10/Dancers-2024.png
ORGANIZER;CN="Jacob Balash":MAILTO:jacob@spencerpride.org
END:VEVENT
BEGIN:VEVENT
DTSTART;TZID=America/Indiana/Indianapolis:20260716T181500
DTEND;TZID=America/Indiana/Indianapolis:20260716T191500
DTSTAMP:20260423T184700
CREATED:20251222T224957Z
LAST-MODIFIED:20251222T224957Z
UID:10841-1784225700-1784229300@spencerpride.org
SUMMARY:Rainbow Dancers: Dance Class
DESCRIPTION:A group for people who love dancing and want to learn it and do it whenever they can.
URL:https://spencerpride.org/calendar/rainbow-dancers-dance-class-55/
LOCATION:Golden Discovery Ballroom\, 17 East Franklin Street\, Spencer\, IN\, 47460\, United States
CATEGORIES:Pride Dancers
ATTACH;FMTTYPE=image/png:https://spencerpride.org/wp-content/uploads/2024/10/Dancers-2024.png
ORGANIZER;CN="Jacob Balash":MAILTO:jacob@spencerpride.org
END:VEVENT
END:VCALENDAR